BEGIN:VCALENDAR
VERSION:2.0
PRODID:-//Hoteles de Mexicali - ECPv6.15.17.1//NONSGML v1.0//EN
CALSCALE:GREGORIAN
METHOD:PUBLISH
X-WR-CALNAME:Hoteles de Mexicali
X-ORIGINAL-URL:https://hotelesdemexicali.com
X-WR-CALDESC:Eventos para Hoteles de Mexicali
REFRESH-INTERVAL;VALUE=DURATION:PT1H
X-Robots-Tag:noindex
X-PUBLISHED-TTL:PT1H
BEGIN:VTIMEZONE
TZID:America/Tijuana
BEGIN:DAYLIGHT
TZOFFSETFROM:-0800
TZOFFSETTO:-0700
TZNAME:PDT
DTSTART:20250309T100000
END:DAYLIGHT
BEGIN:STANDARD
TZOFFSETFROM:-0700
TZOFFSETTO:-0800
TZNAME:PST
DTSTART:20251102T090000
END:STANDARD
BEGIN:DAYLIGHT
TZOFFSETFROM:-0800
TZOFFSETTO:-0700
TZNAME:PDT
DTSTART:20260308T100000
END:DAYLIGHT
BEGIN:STANDARD
TZOFFSETFROM:-0700
TZOFFSETTO:-0800
TZNAME:PST
DTSTART:20261101T090000
END:STANDARD
BEGIN:DAYLIGHT
TZOFFSETFROM:-0800
TZOFFSETTO:-0700
TZNAME:PDT
DTSTART:20270314T100000
END:DAYLIGHT
BEGIN:STANDARD
TZOFFSETFROM:-0700
TZOFFSETTO:-0800
TZNAME:PST
DTSTART:20271107T090000
END:STANDARD
END:VTIMEZONE
BEGIN:VEVENT
DTSTART;TZID=America/Tijuana:20260403T200000
DTEND;TZID=America/Tijuana:20260403T200000
DTSTAMP:20260419T090218
CREATED:20260319T004231Z
LAST-MODIFIED:20260319T004231Z
UID:1330-1775246400-1775246400@hotelesdemexicali.com
SUMMARY:Big Sempa\, Mexicali 2026
DESCRIPTION:El regreso de Big Sempa en Mexicali forma parte de la agenda musical de 2026 con una presentación programada en KUP Centro Cultural\, uno de los espacios independientes que en los últimos años ha impulsado conciertos de artistas emergentes y propuestas alternativas en la capital de Baja California. \nDe acuerdo con la información oficial del evento\, el concierto se llevará a cabo el viernes 3 de abril\, con horario de inicio a las 8:00 de la noche\, lo que permitirá a los asistentes disfrutar de una experiencia musical en formato cercano y directo\, acorde al concepto del recinto. \nLa presentación de Big Sempa en Mexicali forma parte del Estaremos Bien Tour\, gira con la que el artista continúa presentándose en distintas ciudades del país. Este tour ha servido como plataforma para interpretar material reciente y consolidar su propuesta musical ante nuevos públicos. \nFecha: 03 de abril\, 2026.\nDonde: KUP Centro Cultural.\nCosto: $250 pesos.\n**Aplican cargos por servicio.\nHora: 08:00 P.M. \nMás información:\nFacebook: /kup.mxli\nTel.: (664) 318-2385.
URL:https://hotelesdemexicali.com/evento/big-sempa-mexicali-2026/
LOCATION:KUP Centro Cultural\, Av Reforma 555\, Primera\, Mexicali\, B.C.\, 21100\, Mexico
CATEGORIES:Concierto
ATTACH;FMTTYPE=image/webp:https://hotelesdemexicali.com/wp-content/uploads/2026/03/2026-04-03-big-semba-en-mexicali.webp
END:VEVENT
END:VCALENDAR