BEGIN:VCALENDAR
VERSION:2.0
PRODID:-//Hoteles de Mexicali - ECPv6.15.17.1//NONSGML v1.0//EN
CALSCALE:GREGORIAN
METHOD:PUBLISH
X-ORIGINAL-URL:https://hotelesdemexicali.com
X-WR-CALDESC:Eventos para Hoteles de Mexicali
REFRESH-INTERVAL;VALUE=DURATION:PT1H
X-Robots-Tag:noindex
X-PUBLISHED-TTL:PT1H
BEGIN:VTIMEZONE
TZID:America/Tijuana
BEGIN:DAYLIGHT
TZOFFSETFROM:-0800
TZOFFSETTO:-0700
TZNAME:PDT
DTSTART:20250309T100000
END:DAYLIGHT
BEGIN:STANDARD
TZOFFSETFROM:-0700
TZOFFSETTO:-0800
TZNAME:PST
DTSTART:20251102T090000
END:STANDARD
BEGIN:DAYLIGHT
TZOFFSETFROM:-0800
TZOFFSETTO:-0700
TZNAME:PDT
DTSTART:20260308T100000
END:DAYLIGHT
BEGIN:STANDARD
TZOFFSETFROM:-0700
TZOFFSETTO:-0800
TZNAME:PST
DTSTART:20261101T090000
END:STANDARD
BEGIN:DAYLIGHT
TZOFFSETFROM:-0800
TZOFFSETTO:-0700
TZNAME:PDT
DTSTART:20270314T100000
END:DAYLIGHT
BEGIN:STANDARD
TZOFFSETFROM:-0700
TZOFFSETTO:-0800
TZNAME:PST
DTSTART:20271107T090000
END:STANDARD
END:VTIMEZONE
BEGIN:VEVENT
DTSTART;TZID=America/Tijuana:20260411T200000
DTEND;TZID=America/Tijuana:20260411T200000
DTSTAMP:20260419T090638
CREATED:20260319T192948Z
LAST-MODIFIED:20260319T195740Z
UID:1337-1775937600-1775937600@hotelesdemexicali.com
SUMMARY:Noche de Chicxs\, Mexicali 2026
DESCRIPTION:¡La espera terminó para los seguidores del podcast más auténtico! Este próximo 11 de abril\, el Teatro del IMSS Mexicali abre sus puertas a las 8:00 pm para recibir a Noche de Chicxs en un formato totalmente en vivo. Olvídate de la pantalla y prepárate para sumergirte en una experiencia presencial donde la conversación fluye sin filtros\, llevando la energía y las dinámicas que ya conoces de las plataformas digitales directamente al escenario de uno de los recintos más emblemáticos de la ciudad. \nNo pierdas la oportunidad de ser parte de esta noche única donde la interacción directa con el público y los momentos espontáneos serán los protagonistas. Es la ocasión perfecta para vivir de cerca la complicidad de tus creadores favoritos y disfrutar de un show diseñado para quienes buscan algo diferente y real. ¡Corre por tus boletos y asegura tu lugar en esta función especial que promete risas\, reflexión y una conexión inigualable! \nFecha: 11 de abril\, 2026.\nDonde: Teatro del IMSS.\nCosto:\nPreferente – $800 pesos.\nVIP – $950 pesos.\n**Aplican cargos por servicio.\nHora: 08:00 P.M. \nMás información:\nInstagram: /teatro_mexicali_imss\nTel.: (686) 573-8885.
URL:https://hotelesdemexicali.com/evento/noche-de-chicxs-mexicali-2026/
LOCATION:Teatro del Imss Mexicali\, Av. Sebastián Lerdo de Tejada\, Nueva\, Mexicali\, B.C.\, 21100\, Mexico
CATEGORIES:Podcast
ATTACH;FMTTYPE=image/webp:https://hotelesdemexicali.com/wp-content/uploads/2026/03/2026-04-11-noche-de-chicxs-en-mexicali.webp
END:VEVENT
END:VCALENDAR