BEGIN:VCALENDAR
VERSION:2.0
PRODID:-//Hoteles de Mexicali - ECPv6.15.17.1//NONSGML v1.0//EN
CALSCALE:GREGORIAN
METHOD:PUBLISH
X-ORIGINAL-URL:https://hotelesdemexicali.com
X-WR-CALDESC:Eventos para Hoteles de Mexicali
REFRESH-INTERVAL;VALUE=DURATION:PT1H
X-Robots-Tag:noindex
X-PUBLISHED-TTL:PT1H
BEGIN:VTIMEZONE
TZID:America/Tijuana
BEGIN:DAYLIGHT
TZOFFSETFROM:-0800
TZOFFSETTO:-0700
TZNAME:PDT
DTSTART:20250309T100000
END:DAYLIGHT
BEGIN:STANDARD
TZOFFSETFROM:-0700
TZOFFSETTO:-0800
TZNAME:PST
DTSTART:20251102T090000
END:STANDARD
BEGIN:DAYLIGHT
TZOFFSETFROM:-0800
TZOFFSETTO:-0700
TZNAME:PDT
DTSTART:20260308T100000
END:DAYLIGHT
BEGIN:STANDARD
TZOFFSETFROM:-0700
TZOFFSETTO:-0800
TZNAME:PST
DTSTART:20261101T090000
END:STANDARD
BEGIN:DAYLIGHT
TZOFFSETFROM:-0800
TZOFFSETTO:-0700
TZNAME:PDT
DTSTART:20270314T100000
END:DAYLIGHT
BEGIN:STANDARD
TZOFFSETFROM:-0700
TZOFFSETTO:-0800
TZNAME:PST
DTSTART:20271107T090000
END:STANDARD
END:VTIMEZONE
BEGIN:VEVENT
DTSTART;TZID=America/Tijuana:20260501T183000
DTEND;TZID=America/Tijuana:20260501T183000
DTSTAMP:20260419T090535
CREATED:20260319T221148Z
LAST-MODIFIED:20260319T221148Z
UID:1369-1777660200-1777660200@hotelesdemexicali.com
SUMMARY:El Cadáver de la Novia Sinfónico\, Mexicali 2026
DESCRIPTION:¡Prepárate para una noche donde la fantasía y la música se funden en un espectáculo inolvidable! Este viernes 1 de mayo\, el Teatro del Estado de Mexicali te invita a vivir la magia de “El Cadáver de la Novia Sinfónico”. No es solo una película\, es una experiencia inmersiva donde la melancolía y el romance de esta joya cinematográfica cobran vida propia. Déjate cautivar por la atmósfera única que solo un recinto tan emblemático puede ofrecer y asegura tu lugar en esta cita imperdible con el arte y la imaginación. \nImagina disfrutar de cada escena de esta historia clásica mientras una orquesta sinfónica interpreta la partitura original en tiempo real\, sincronizada perfectamente con la pantalla. Es la oportunidad perfecta para redescubrir la obra de una manera vibrante y poderosa que te pondrá la piel de gallina. No te quedes fuera de esta innovadora propuesta cultural; invita a tus amigos o familia y sumérgete en un viaje sonoro que celebra lo mejor del cine y la música en vivo. ¡Nos vemos en el teatro! \nFecha: 01 de mayo\, 2026.\nDonde: Teatro del Estado.\nCosto:\n3er. Nivel $650 pesos.\n2do. Nivel $750 pesos.\n1er. Nivel y VIP $800 pesos.\n**Aplican cargos por servicio.\nFunciones: 06:30 P.M. \nMás información:\nfacebook: /teatrodelestadoMXL\nOficinas generales: (686) 554-9339.\nAtención en taquilla: (686) 554-6419.\nCorreo: teatrodelestadobc@gmail.com
URL:https://hotelesdemexicali.com/evento/el-cadaver-de-la-novia-sinfonico-mexicali-2026/
LOCATION:Teatro del Estado\, Blvd. Adolfo López Mateos 1112\, Conjunto Urbano Caliss\, Mexicali\, B.C.\, 21010\, Mexico
CATEGORIES:Concierto
ATTACH;FMTTYPE=image/webp:https://hotelesdemexicali.com/wp-content/uploads/2026/03/2026-05-01-el-cadaver-de-la-novia-en-mexicali.webp
END:VEVENT
END:VCALENDAR