BEGIN:VCALENDAR
VERSION:2.0
PRODID:-//Hoteles de Mexicali - ECPv6.15.17.1//NONSGML v1.0//EN
CALSCALE:GREGORIAN
METHOD:PUBLISH
X-ORIGINAL-URL:https://hotelesdemexicali.com
X-WR-CALDESC:Eventos para Hoteles de Mexicali
REFRESH-INTERVAL;VALUE=DURATION:PT1H
X-Robots-Tag:noindex
X-PUBLISHED-TTL:PT1H
BEGIN:VTIMEZONE
TZID:America/Tijuana
BEGIN:DAYLIGHT
TZOFFSETFROM:-0800
TZOFFSETTO:-0700
TZNAME:PDT
DTSTART:20250309T100000
END:DAYLIGHT
BEGIN:STANDARD
TZOFFSETFROM:-0700
TZOFFSETTO:-0800
TZNAME:PST
DTSTART:20251102T090000
END:STANDARD
BEGIN:DAYLIGHT
TZOFFSETFROM:-0800
TZOFFSETTO:-0700
TZNAME:PDT
DTSTART:20260308T100000
END:DAYLIGHT
BEGIN:STANDARD
TZOFFSETFROM:-0700
TZOFFSETTO:-0800
TZNAME:PST
DTSTART:20261101T090000
END:STANDARD
BEGIN:DAYLIGHT
TZOFFSETFROM:-0800
TZOFFSETTO:-0700
TZNAME:PDT
DTSTART:20270314T100000
END:DAYLIGHT
BEGIN:STANDARD
TZOFFSETFROM:-0700
TZOFFSETTO:-0800
TZNAME:PST
DTSTART:20271107T090000
END:STANDARD
END:VTIMEZONE
BEGIN:VEVENT
DTSTART;TZID=America/Tijuana:20260502T140000
DTEND;TZID=America/Tijuana:20260502T160000
DTSTAMP:20260419T090637
CREATED:20260311T223952Z
LAST-MODIFIED:20260311T223952Z
UID:814-1777730400-1777737600@hotelesdemexicali.com
SUMMARY:BTS & Kpop Universe\, Mexicali 2026
DESCRIPTION:¡Atención\, ARMY y amantes del K-pop en Mexicali! Prepárense para vivir una experiencia intergaláctica en el evento BTS & Kpop Universe 2026. El próximo domingo 22 de marzo\, el Teatro del Estado se transformará en el epicentro del fenómeno coreano\, ofreciendo un espectáculo vibrante lleno de coreografías impecables\, proyecciones especiales y una producción de primer nivel dedicada a los mayores éxitos de Bangtan y el universo del pop coreano. Es la oportunidad perfecta para que la comunidad cachanilla se reúna\, comparta su pasión y disfrute de una tarde cargada de color\, música y sorpresas que te harán sentir en Seúl. \nLa cita comienza a las 4:00 p.m.\, un horario ideal para asistir con amigos o en familia y sumergirse en la energía inigualable de los fandoms. Los boletos ya están disponibles a través de la plataforma de Primera Fila y en la taquilla del teatro; aseguran tu entrada con anticipación para no perderte los concursos de dance cover y la mercancía exclusiva que habrá en el lugar. ¡No faltes a esta celebración de la cultura coreana y demuestra que en Mexicali el poder del K-pop brilla más fuerte que nunca! \nFecha: 02 de mayo\, 2026.\nDonde: Teatro del Estado.\nCosto:\nVIP – $800 pesos.\n1er NIvel – $700 pesos.\n2do Nivel – $600 pesos.\n3er Nivel – $500 pesos.\n**Aplican cargos por servicio.\nFunciones: 02:00 – 04:00 P.M. \nMás información:\nBoletos disponibles en: Primera Fila\nfacebook: /teatrodelestadoMXL\nOficinas generales: (686) 554-9339.\nAtención en taquilla: (686) 554-6419.\nCorreo: teatrodelestadobc@gmail.com
URL:https://hotelesdemexicali.com/evento/bts-kpop-universe-mexicali-2026/
LOCATION:Teatro del Estado\, Blvd. Adolfo López Mateos 1112\, Conjunto Urbano Caliss\, Mexicali\, B.C.\, 21010\, Mexico
CATEGORIES:Concierto,Show
ATTACH;FMTTYPE=image/webp:https://hotelesdemexicali.com/wp-content/uploads/2026/03/2026-05-02-kpop-universe-en-mexicali.webp
END:VEVENT
BEGIN:VEVENT
DTSTART;TZID=America/Tijuana:20260502T200000
DTEND;TZID=America/Tijuana:20260502T200000
DTSTAMP:20260419T090637
CREATED:20260311T225327Z
LAST-MODIFIED:20260311T225528Z
UID:817-1777752000-1777752000@hotelesdemexicali.com
SUMMARY:Penumbra\, Mexicali 2026
DESCRIPTION:¡Es momento de prepararse para una noche donde la música y la atmósfera se funden en una experiencia sensorial única! Este sábado 2 de mayo\, el espacio de Brew Capital Co. en Mexicali será el escenario de Penumbra\, un evento diseñado para quienes buscan sumergirse en ritmos cautivadores y propuestas sonoras intensas. A partir de la medianoche\, el recinto se transformará en el epicentro de la escena alternativa local\, ofreciendo una curaduría musical que promete sacudir los sentidos de todos los asistentes en un ambiente inigualable. \nNo se debe dejar pasar la oportunidad de formar parte de esta velada mística en el corazón de Baja California. La cita es en uno de los puntos más vibrantes de la vida nocturna cachanilla\, donde la energía de la comunidad y el talento sobre el escenario crearán recuerdos imborrables bajo el manto de la madrugada. Es recomendable asegurar un lugar con anticipación para unirse a esta celebración de la cultura y el sonido en una noche que redefine el concepto de reunión social en la ciudad. ¡La cita es en Penumbra! \nFecha: 02 de mayo\, 2026.\nDonde: Brew Capital Co.\nCosto:\nAcceso Preventa – $500 pesos.\nAcceso Taquilla – $600 pesos.\n**Aplican cargos por servicio.\nFunciones: 08:00 P.M. \nMás información:\nBoletos disponibles en: Primera Fila\nFacebook: /brewcapital\nTel:. (686) 105-5951.
URL:https://hotelesdemexicali.com/evento/penumbra-mexicali-2026/
LOCATION:Brew Capital Co\, Calz. Héctor Terán Terán 1000-5\, Terrenos Rústicos\, Mexicali\, B.C.\, 21353\, Mexico
CATEGORIES:Concierto
ATTACH;FMTTYPE=image/webp:https://hotelesdemexicali.com/wp-content/uploads/2026/03/2026-05-02-penumbra-en-mexicali.webp
END:VEVENT
BEGIN:VEVENT
DTSTART;TZID=America/Tijuana:20260502T200000
DTEND;TZID=America/Tijuana:20260502T200000
DTSTAMP:20260419T090637
CREATED:20260319T203010Z
LAST-MODIFIED:20260319T203010Z
UID:1356-1777752000-1777752000@hotelesdemexicali.com
SUMMARY:T3R Elemento y Cornelio Vega & Su Dinastía\, Mexicali 2026
DESCRIPTION:¡La fuerza del regional mexicano llega a Mexicali con una noche que promete ser legendaria! Este sábado 2 de mayo\, el Palenque del FEX se encenderá con la presentación de T3R Elemento y Cornelio Vega & Su Dinastía. Como parte de su gira “No me hubiera enamorado de tus ojitos de miel”\, estos grandes exponentes del género traerán toda la energía de sus corridos y baladas a uno de los escenarios más vibrantes de la ciudad. Prepárate para vivir una velada llena de sentimiento\, ritmo y ese estilo único que ha conquistado a miles de seguidores. \nNo pierdas la oportunidad de asegurar tu lugar en este evento imperdible; los boletos ya están disponibles con opciones para todos. Reúne a tus amigos\, prepara tus mejores botas y ven a corear cada éxito en una producción de primer nivel diseñada para los verdaderos fans de la música norteña y los sierreños. ¡Allá nos vemos para celebrar juntos! \nFecha: 18 de abril\, 2026.\nDonde: Palenque del FEX.\nCosto:\nOro – $2\,900 pesos.\nPlata – $1\,800 pesos.\nBronce – $1\,200 pesos.\nGeneral – $600 pesos.\n**Aplican cargos por servicio.\nHora: 08:00 P.M. \nMás información:\nFacebook: /palenquedelfex\nTel.: (686) 557-0824.
URL:https://hotelesdemexicali.com/evento/t3r-elemento-y-cornelio-vega-su-dinastia-mexicali-2026/
LOCATION:Palenque del Fex\, Río Nuevo 955\, Agualeguas\, Mexicali\, B.C.\, 21150\, Mexico
CATEGORIES:Concierto
ATTACH;FMTTYPE=image/webp:https://hotelesdemexicali.com/wp-content/uploads/2026/03/2026-05-02.webp
END:VEVENT
END:VCALENDAR