BEGIN:VCALENDAR
VERSION:2.0
PRODID:-//Hoteles de Mexicali - ECPv6.15.17.1//NONSGML v1.0//EN
CALSCALE:GREGORIAN
METHOD:PUBLISH
X-ORIGINAL-URL:https://hotelesdemexicali.com
X-WR-CALDESC:Eventos para Hoteles de Mexicali
REFRESH-INTERVAL;VALUE=DURATION:PT1H
X-Robots-Tag:noindex
X-PUBLISHED-TTL:PT1H
BEGIN:VTIMEZONE
TZID:America/Tijuana
BEGIN:DAYLIGHT
TZOFFSETFROM:-0800
TZOFFSETTO:-0700
TZNAME:PDT
DTSTART:20250309T100000
END:DAYLIGHT
BEGIN:STANDARD
TZOFFSETFROM:-0700
TZOFFSETTO:-0800
TZNAME:PST
DTSTART:20251102T090000
END:STANDARD
BEGIN:DAYLIGHT
TZOFFSETFROM:-0800
TZOFFSETTO:-0700
TZNAME:PDT
DTSTART:20260308T100000
END:DAYLIGHT
BEGIN:STANDARD
TZOFFSETFROM:-0700
TZOFFSETTO:-0800
TZNAME:PST
DTSTART:20261101T090000
END:STANDARD
BEGIN:DAYLIGHT
TZOFFSETFROM:-0800
TZOFFSETTO:-0700
TZNAME:PDT
DTSTART:20270314T100000
END:DAYLIGHT
BEGIN:STANDARD
TZOFFSETFROM:-0700
TZOFFSETTO:-0800
TZNAME:PST
DTSTART:20271107T090000
END:STANDARD
END:VTIMEZONE
BEGIN:VEVENT
DTSTART;TZID=America/Tijuana:20260509T190000
DTEND;TZID=America/Tijuana:20260509T190000
DTSTAMP:20260419T104633
CREATED:20260319T223726Z
LAST-MODIFIED:20260319T223726Z
UID:1380-1778353200-1778353200@hotelesdemexicali.com
SUMMARY:Star Wars Episodio III Sinfónico\, Mexicali 2026
DESCRIPTION:¡Que la fuerza te acompañe en una experiencia cinematográfica sin precedentes! Mexicali se prepara para recibir Star Wars Episodio III: La Venganza de los Sith – Sinfónico este próximo sábado 9 de mayo en el emblemático Teatro del Estado. Imagina revivir el ascenso de Darth Vader y los duelos más épicos de la saga en pantalla gigante\, mientras una orquesta sinfónica interpreta en vivo la legendaria partitura de John Williams. Es la oportunidad perfecta para que fans de todas las generaciones se reúnan y sientan la intensidad de la galaxia muy\, muy lejana como nunca antes. \nNo te pierdas este evento único que combina la magia del cine con el poder de la música orquestal en tiempo real. Desde los emocionantes acordes de Battle of the Heroes hasta la melancolía de Anakin’s Betrayal\, cada nota te hará vibrar en tu asiento a partir de las 7:00 pm. Asegura tus lugares para esta función especial y sé parte de una noche histórica en el corazón cultural de la ciudad. ¡Prepara tu sable de luz y asiste a este espectáculo que promete conquistar a toda la galaxia cachanilla! \nFecha: 09 de mayo\, 2026.\nDonde: Teatro del Estado.\nCosto:\n3er. Nivel – $650 pesos.\n2do. Nivel – $750 pesos.\n1er. Nivel y VIP – $800 pesos.\n**Aplican cargos por servicio.\nFunciones: 07:00 P.M. \nMás información:\nBoletos disponibles en: Primera Fila\nfacebook: /teatrodelestadoMXL\nOficinas generales: (686) 554-9339.\nAtención en taquilla: (686) 554-6419.\nCorreo: teatrodelestadobc@gmail.com
URL:https://hotelesdemexicali.com/evento/star-wars-episodio-iii-sinfonico-mexicali-2026/
LOCATION:Teatro del Estado\, Blvd. Adolfo López Mateos 1112\, Conjunto Urbano Caliss\, Mexicali\, B.C.\, 21010\, Mexico
CATEGORIES:Concierto
ATTACH;FMTTYPE=image/webp:https://hotelesdemexicali.com/wp-content/uploads/2026/03/2026-05-09-star-wars-en-mexicali.webp
END:VEVENT
BEGIN:VEVENT
DTSTART;TZID=America/Tijuana:20260509T200000
DTEND;TZID=America/Tijuana:20260509T200000
DTSTAMP:20260419T104633
CREATED:20260311T231248Z
LAST-MODIFIED:20260311T231248Z
UID:824-1778356800-1778356800@hotelesdemexicali.com
SUMMARY:Emo Night\, Mexicali 2026
DESCRIPTION:¡Saca el delineador y prepárate para cantar a todo pulmón! El próximo sábado 9 de mayo de 2026\, el Foro Dragón de Mexicali se convertirá en el refugio perfecto para todos los corazones melancólicos con la llegada de la Emo Night. A partir de las 8:00 p.m.\, el recinto vibrará con los himnos que definieron a toda una generación\, desde My Chemical Romance hasta Paramore y Panic! At The Disco. Es la oportunidad ideal para reunirte con tus amigos\, lucir tu mejor atuendo negro y revivir la energía de los años 2000 en una noche dedicada a la nostalgia y la catarsis emocional. \nFecha: 09 de mayo\, 2026.\nDonde: Foro Dragón.\nCosto: $150 pesos.\n**Aplican cargos por servicio.\nHora: 08:00 P.M. \nMás información:\nBoletos disponibles en: Primera Fila\nFacebook: /ForoDragon\nTel:. (686) 232-1500.
URL:https://hotelesdemexicali.com/evento/emo-night-mexicali-2026/
LOCATION:Foro Dragón\, Blvd. Lázaro Cárdenas 555\, Ex-Ejido Coahuila\, Mexicali\, B.C.\, 21270\, Mexico
CATEGORIES:Concierto
ATTACH;FMTTYPE=image/webp:https://hotelesdemexicali.com/wp-content/uploads/2026/03/2026-05-09-emo-night-en-mexicali.webp
END:VEVENT
BEGIN:VEVENT
DTSTART;TZID=America/Tijuana:20260509T200000
DTEND;TZID=America/Tijuana:20260509T200000
DTSTAMP:20260419T104633
CREATED:20260319T224527Z
LAST-MODIFIED:20260319T224527Z
UID:1383-1778356800-1778356800@hotelesdemexicali.com
SUMMARY:Monte Casino\, Mexicali 2026
DESCRIPTION:¡La energía del indie rock llega a Mexicali! Este 9 de mayo\, prepárate para recibir a Monte Casino en un concierto exclusivo que promete sacudir la ciudad. La cita es en Malgro Cervecería a las 8:00 pm\, el lugar ideal para disfrutar de su propuesta musical en un ambiente relajado\, auténtico y con el mejor sabor local. No dejes pasar la oportunidad de vivir esta experiencia sonora de cerca y conectar con la banda en una noche diseñada para los verdaderos amantes de la música en vivo. \nAsegura tu lugar en este evento de cupo limitado donde la intimidad del recinto hará que cada acorde se sienta a flor de piel. Ven con tus amigos a disfrutar de una velada única\, llena de buenas vibras y el estilo inconfundible de Monte Casino en una de las paradas más esperadas de su agenda 2026. ¡Corre por tus entradas y prepárate para una noche inolvidable en el corazón de la escena musical cachanilla! \nFecha: 09 de mayo\, 2026.\nDonde: Malgro Cervecería & TapRoom.\nCosto:\nPreventa – $300 pesos.\n**Aplican cargos por servicio.\nHora: 08:00 P.M. \nMás información:\nFacebook: /CervezaMalGro\nCorreo: cervezamalgro@gmail.com
URL:https://hotelesdemexicali.com/evento/monte-casino-mexicali-2026/
LOCATION:Malgro Cervecería & TapRoom\, Av de los Jazmines 1109\, Las Hadas\, Mexicali\, B.C.\, 21210\, Mexico
CATEGORIES:Concierto
ATTACH;FMTTYPE=image/webp:https://hotelesdemexicali.com/wp-content/uploads/2026/03/2026-05-09-monte-casino-en-mexicali.webp
END:VEVENT
BEGIN:VEVENT
DTSTART;TZID=America/Tijuana:20260509T200000
DTEND;TZID=America/Tijuana:20260509T200000
DTSTAMP:20260419T104633
CREATED:20260320T023042Z
LAST-MODIFIED:20260320T023042Z
UID:1389-1778356800-1778356800@hotelesdemexicali.com
SUMMARY:Los Alegres del Barranco\, Mexicali 2026
DESCRIPTION:¡La verdadera fiesta norteña llega a la capital! Este sábado 9 de mayo\, prepárate para recibir a Los Alegres del Barranco en el Palenque del FEX. A partir de las 8:00 de la noche\, el recinto más tradicional de Mexicali se transformará en el escenario perfecto para disfrutar del estilo único y las letras que han consolidado a esta agrupación como una de las favoritas del regional mexicano. No te quedes fuera de esta velada que promete un ambiente cien por ciento palenquero y toda la energía de la música de acordeón y bajo sexto que tanto nos gusta. \nVen a cantar a todo pulmón los éxitos que han marcado generaciones en un formato cercano y directo al corazón. Es la oportunidad ideal para reunirte con tus amigos y vivir una noche auténtica con el sello inconfundible de Los Alegres del Barranco en su regreso triunfal a tierras cachanillas. Asegura tus lugares cuanto antes y prepárate para una de las presentaciones más esperadas de la agenda musical del 2026. ¡Allá nos vemos para brindar y bailar con lo mejor del norteño! \nFecha: 09 de mayo\, 2026.\nDonde: Palenque del FEX.\nCosto:\nGeneral – $500 pesos.\nBronce – $1\,200 pesos.\nPlata – $2\,000 pesos.\nVIP – $3\,000 pesos.\n**Aplican cargos por servicio.\nHora: 08:00 P.M. \nMás información:\nFacebook: /palenquedelfex\nTel.: (686) 557-0824.
URL:https://hotelesdemexicali.com/evento/los-alegres-del-barranco-mexicali-2026/
LOCATION:Palenque del Fex\, Río Nuevo 955\, Agualeguas\, Mexicali\, B.C.\, 21150\, Mexico
CATEGORIES:Concierto
ATTACH;FMTTYPE=image/webp:https://hotelesdemexicali.com/wp-content/uploads/2026/03/2026-05-09-los-alegres-del-barranco-en-mexicali.webp
END:VEVENT
END:VCALENDAR