BEGIN:VCALENDAR
VERSION:2.0
PRODID:-//Hoteles de Mexicali - ECPv6.15.17.1//NONSGML v1.0//EN
CALSCALE:GREGORIAN
METHOD:PUBLISH
X-ORIGINAL-URL:https://hotelesdemexicali.com
X-WR-CALDESC:Eventos para Hoteles de Mexicali
REFRESH-INTERVAL;VALUE=DURATION:PT1H
X-Robots-Tag:noindex
X-PUBLISHED-TTL:PT1H
BEGIN:VTIMEZONE
TZID:America/Tijuana
BEGIN:DAYLIGHT
TZOFFSETFROM:-0800
TZOFFSETTO:-0700
TZNAME:PDT
DTSTART:20250309T100000
END:DAYLIGHT
BEGIN:STANDARD
TZOFFSETFROM:-0700
TZOFFSETTO:-0800
TZNAME:PST
DTSTART:20251102T090000
END:STANDARD
BEGIN:DAYLIGHT
TZOFFSETFROM:-0800
TZOFFSETTO:-0700
TZNAME:PDT
DTSTART:20260308T100000
END:DAYLIGHT
BEGIN:STANDARD
TZOFFSETFROM:-0700
TZOFFSETTO:-0800
TZNAME:PST
DTSTART:20261101T090000
END:STANDARD
BEGIN:DAYLIGHT
TZOFFSETFROM:-0800
TZOFFSETTO:-0700
TZNAME:PDT
DTSTART:20270314T100000
END:DAYLIGHT
BEGIN:STANDARD
TZOFFSETFROM:-0700
TZOFFSETTO:-0800
TZNAME:PST
DTSTART:20271107T090000
END:STANDARD
END:VTIMEZONE
BEGIN:VEVENT
DTSTART;TZID=America/Tijuana:20260516T140000
DTEND;TZID=America/Tijuana:20260516T140000
DTSTAMP:20260419T104627
CREATED:20260406T191411Z
LAST-MODIFIED:20260406T191411Z
UID:1483-1778940000-1778940000@hotelesdemexicali.com
SUMMARY:Mario Galaxy: El Espectáculo en Vivo\, Mexicali 2026
DESCRIPTION:¡Prepárate para una aventura intergaláctica con Mario Galaxy: El Espectáculo en Vivo! El próximo sábado 16 de mayo a las 2:00 PM\, el Teatro del Estado se transformará en un universo lleno de magia\, color y acción para recibir a tus personajes favoritos. Acompaña a Mario\, Luigi\, Peach\, Yoshi y hasta al mismísimo Bowser en una puesta en escena única que promete cautivar a chicos y grandes con una producción de primer nivel y toda la energía del mundo de los videojuegos. \nNo dejes pasar esta oportunidad exclusiva\, ya que será un único día de función en la ciudad. Es el plan perfecto para disfrutar en familia y vivir de cerca la emoción de una de las sagas más queridas de Nintendo en un formato totalmente en vivo y vibrante. Asegura tus lugares con anticipación para no quedarte fuera de este viaje espacial que hará volar la imaginación de todos los asistentes. ¡Nos vemos en el teatro para salvar la galaxia! \nFecha: 16 de mayo\, 2026.\nDonde: Teatro del Estado.\nCosto:\nVIP – $600 pesos.\n1er NIvel – $500 pesos.\n2do Nivel – $400 pesos.\n3er Nivel – $350 pesos.\n**Aplican cargos por servicio.\nFunciones: 02:00 P.M. \nMás información:\nfacebook: /teatrodelestadoMXL\nOficinas generales: (686) 554-9339.\nAtención en taquilla: (686) 554-6419.\nCorreo: teatrodelestadobc@gmail.com
URL:https://hotelesdemexicali.com/evento/mario-galaxy-el-espectaculo-en-vivo-mexicali-2026/
LOCATION:Teatro del Estado\, Blvd. Adolfo López Mateos 1112\, Conjunto Urbano Caliss\, Mexicali\, B.C.\, 21010\, Mexico
CATEGORIES:Concierto,Teatro
ATTACH;FMTTYPE=image/webp:https://hotelesdemexicali.com/wp-content/uploads/2026/04/2026-05-16-mario-galaxy-en-mexicali.webp
END:VEVENT
BEGIN:VEVENT
DTSTART;TZID=America/Tijuana:20260516T160000
DTEND;TZID=America/Tijuana:20260516T233000
DTSTAMP:20260419T104627
CREATED:20260406T200224Z
LAST-MODIFIED:20260406T215315Z
UID:1491-1778947200-1778974200@hotelesdemexicali.com
SUMMARY:Baja Coffee Fest\, Mexicali 2026
DESCRIPTION:¡Prepárate para despertar tus sentidos en el Baja Coffee Fest! El próximo 16 de mayo\, el Bosque de la Ciudad en Mexicali se transformará en el paraíso terrenal para todos los amantes del café. Será una jornada única donde podrás disfrutar de las mejores mezclas locales\, sumergirte en una experiencia sensorial inigualable y dejarte llevar por el ritmo de la música en vivo y los sets de DJ House. Es la oportunidad perfecta para relajarte bajo la sombra de los árboles mientras descubres nuevos sabores y apoyas al talento cafetalero de la región. \nNo te quedes fuera de esta gran celebración y asegura tu lugar adquiriendo tus boletos a través de primerafila.mx. Ya sea que vayas con amigos\, en familia o simplemente busques un plan diferente para disfrutar del fin de semana\, el Baja Coffee Fest promete una atmósfera vibrante llena de aroma y buena energía. Marca la fecha en tu calendario\, prepara tu taza favorita y ven a vivir una experiencia que combina lo mejor de la cultura del café con el entretenimiento local. ¡Nos vemos en el Bosque para brindar con el mejor grano! \nFecha: 16 de mayo\, 2026.\nDonde: Bosque de la Ciudad.\nCosto: $250 pesos.\nFunciones: 02:00 P.M. \nMás información:\nFacebook: /BosqueYZoologicoDeLaCiudad\nTel: (686) 558-9080.\nCorreo: bosquecd@hotmail.com
URL:https://hotelesdemexicali.com/evento/baja-coffee-fest-mexicali-2026/
LOCATION:Bosque de la Ciudad\, C. Alvarado S/N\, Nueva Esperanza\, Mexicali\, B.C.\, 21050\, Mexico
CATEGORIES:Fest,Gastronomía
ATTACH;FMTTYPE=image/webp:https://hotelesdemexicali.com/wp-content/uploads/2026/04/2026-05-16-baja-coffee-fest-en-mexicali.webp
END:VEVENT
BEGIN:VEVENT
DTSTART;TZID=America/Tijuana:20260516T200000
DTEND;TZID=America/Tijuana:20260516T200000
DTSTAMP:20260419T104627
CREATED:20260319T221836Z
LAST-MODIFIED:20260319T221936Z
UID:1374-1778961600-1778961600@hotelesdemexicali.com
SUMMARY:Pancho Barraza: 35 Aniversario Tour\, Mexicali 2026
DESCRIPTION:¡Mexicali se prepara para una noche de gala con el “Poeta del Amor”! Pancho Barraza llega al Palenque del FEX este sábado 16 de mayo para celebrar a lo grande su 35 Aniversario Tour. Será una velada histórica en el corazón de la capital cachanilla\, donde la pasión del regional mexicano se sentirá más fuerte que nunca. No te quedes fuera de este homenaje a tres décadas de éxitos y ven a ser parte de un recorrido musical que ha marcado a generaciones enteras. \nPrepárate para cantar a todo pulmón desde los clásicos que lo lanzaron a la fama hasta sus más recientes éxitos en una producción diseñada para conmover y hacer vibrar a cada asistente. Esta gira conmemorativa es la oportunidad perfecta para presenciar la evolución de una verdadera leyenda viva en uno de los recintos más emblemáticos de la ciudad. ¡Corre por tus boletos y asegura tu lugar en esta fiesta inolvidable junto a Pancho Barraza! \nFecha: 16 de mayo\, 2026.\nDonde: Palenque del FEX.\nCosto:\nGeneral – $600 pesos.\nBronce – $850 pesos.\nPlata – $1\,300 pesos.\nOro – $1\,700 pesos.\nVIP – $3\,000 pesos.\nFan – $3\,400 pesos.\n**Aplican cargos por servicio.\nHora: 08:00 P.M. \nMás información:\nFacebook: /palenquedelfex\nTel.: (686) 557-0824.
URL:https://hotelesdemexicali.com/evento/pancho-barraza-35-aniversario-tour-mexicali-2026/
LOCATION:Palenque del Fex\, Río Nuevo 955\, Agualeguas\, Mexicali\, B.C.\, 21150\, Mexico
CATEGORIES:Concierto
ATTACH;FMTTYPE=image/webp:https://hotelesdemexicali.com/wp-content/uploads/2026/03/2026-05-16-pancho-barraza-en-mexicali.webp
END:VEVENT
END:VCALENDAR