BEGIN:VCALENDAR
VERSION:2.0
PRODID:-//Hoteles de Mexicali - ECPv6.15.17.1//NONSGML v1.0//EN
CALSCALE:GREGORIAN
METHOD:PUBLISH
X-ORIGINAL-URL:https://hotelesdemexicali.com
X-WR-CALDESC:Eventos para Hoteles de Mexicali
REFRESH-INTERVAL;VALUE=DURATION:PT1H
X-Robots-Tag:noindex
X-PUBLISHED-TTL:PT1H
BEGIN:VTIMEZONE
TZID:America/Tijuana
BEGIN:DAYLIGHT
TZOFFSETFROM:-0800
TZOFFSETTO:-0700
TZNAME:PDT
DTSTART:20250309T100000
END:DAYLIGHT
BEGIN:STANDARD
TZOFFSETFROM:-0700
TZOFFSETTO:-0800
TZNAME:PST
DTSTART:20251102T090000
END:STANDARD
BEGIN:DAYLIGHT
TZOFFSETFROM:-0800
TZOFFSETTO:-0700
TZNAME:PDT
DTSTART:20260308T100000
END:DAYLIGHT
BEGIN:STANDARD
TZOFFSETFROM:-0700
TZOFFSETTO:-0800
TZNAME:PST
DTSTART:20261101T090000
END:STANDARD
BEGIN:DAYLIGHT
TZOFFSETFROM:-0800
TZOFFSETTO:-0700
TZNAME:PDT
DTSTART:20270314T100000
END:DAYLIGHT
BEGIN:STANDARD
TZOFFSETFROM:-0700
TZOFFSETTO:-0800
TZNAME:PST
DTSTART:20271107T090000
END:STANDARD
END:VTIMEZONE
BEGIN:VEVENT
DTSTART;TZID=America/Tijuana:20260610T200000
DTEND;TZID=America/Tijuana:20260610T200000
DTSTAMP:20260419T120853
CREATED:20251119T031701Z
LAST-MODIFIED:20260321T054640Z
UID:369-1781121600-1781121600@hotelesdemexicali.com
SUMMARY:Iseo & Dodosound\, Mexicali 2026
DESCRIPTION:¡El dúo español que ha revolucionado la escena alternativa llega finalmente a nuestra ciudad! Este 10 de junio de 2026\, el Foro Dragón se transformará en el epicentro del dub y el reggae con la esperada presentación de Iseo & Dodosound. No te pierdas la oportunidad de presenciar en vivo esta fusión perfecta entre la voz hipnótica de Iseo y las potentes producciones electrónicas de Dodosound. Es una cita obligada para quienes buscan una experiencia sonora refrescante\, cargada de buenas vibras y ritmos internacionales que han conquistado los festivales más importantes de Europa. \nPrepárate para un viaje musical que te llevará desde los sonidos más profundos del reggae moderno hasta texturas electrónicas contemporáneas. Con éxitos como Frozen Desert y Blue Lights\, el dúo promete una noche envolvente e íntima en uno de los recintos más vibrantes de Mexicali. Asegura tus boletos con tiempo y únete a la comunidad amante del dub para disfrutar de un espectáculo de clase mundial que rara vez aterriza en la región. ¡Ven a vibrar con el sonido único de Iseo & Dodosound y sé parte de una noche histórica! \nFecha: 10 de junio\, 2026.\nDonde: Foro Dragón.\nCosto:\nPreventa – $350 pesos.\nGeneral – $400 pesos.\n**Aplican cargos por servicio.\nHora: 08:00 P.M. \nMás información:\nBoletos disponibles en: Primera Fila\nFacebook: /ForoDragon\nTel:. (686) 232-1500.
URL:https://hotelesdemexicali.com/evento/iseo-dodosound-mexicali-2026/
LOCATION:Foro Dragón\, Blvd. Lázaro Cárdenas 555\, Ex-Ejido Coahuila\, Mexicali\, B.C.\, 21270\, Mexico
CATEGORIES:Concierto
ATTACH;FMTTYPE=image/webp:https://hotelesdemexicali.com/wp-content/uploads/2025/11/2026-06-10-iseo-dodosound-en-mexicali.webp
END:VEVENT
END:VCALENDAR