BEGIN:VCALENDAR
VERSION:2.0
PRODID:-//Hoteles de Mexicali - ECPv6.15.17.1//NONSGML v1.0//EN
CALSCALE:GREGORIAN
METHOD:PUBLISH
X-ORIGINAL-URL:https://hotelesdemexicali.com
X-WR-CALDESC:Eventos para Hoteles de Mexicali
REFRESH-INTERVAL;VALUE=DURATION:PT1H
X-Robots-Tag:noindex
X-PUBLISHED-TTL:PT1H
BEGIN:VTIMEZONE
TZID:America/Tijuana
BEGIN:DAYLIGHT
TZOFFSETFROM:-0800
TZOFFSETTO:-0700
TZNAME:PDT
DTSTART:20250309T100000
END:DAYLIGHT
BEGIN:STANDARD
TZOFFSETFROM:-0700
TZOFFSETTO:-0800
TZNAME:PST
DTSTART:20251102T090000
END:STANDARD
BEGIN:DAYLIGHT
TZOFFSETFROM:-0800
TZOFFSETTO:-0700
TZNAME:PDT
DTSTART:20260308T100000
END:DAYLIGHT
BEGIN:STANDARD
TZOFFSETFROM:-0700
TZOFFSETTO:-0800
TZNAME:PST
DTSTART:20261101T090000
END:STANDARD
BEGIN:DAYLIGHT
TZOFFSETFROM:-0800
TZOFFSETTO:-0700
TZNAME:PDT
DTSTART:20270314T100000
END:DAYLIGHT
BEGIN:STANDARD
TZOFFSETFROM:-0700
TZOFFSETTO:-0800
TZNAME:PST
DTSTART:20271107T090000
END:STANDARD
END:VTIMEZONE
BEGIN:VEVENT
DTSTART;TZID=America/Tijuana:20260627T200000
DTEND;TZID=America/Tijuana:20260627T200000
DTSTAMP:20260419T122759
CREATED:20260411T042047Z
LAST-MODIFIED:20260411T042047Z
UID:1534-1782590400-1782590400@hotelesdemexicali.com
SUMMARY:Circus Fest\, Mexicali 2026
DESCRIPTION:Prepárense para una descarga total de adrenalina en el Circus Fest\, que llegará al Foro Dragón este próximo sábado 27 de junio. La noche promete ser legendaria con los espectaculares tributos a dos gigantes del rock y el metal: Slipknot (por Snuff) y KISS (por Kisstruction). A partir de las 8:00 P.M.\, el escenario vibrará también con la energía de grandes bandas invitadas como Frostbyte\, Vortex Diem\, Alvath y The Royal Witches\, creando una experiencia sonora completa e imperdible para todos los amantes de los riffs potentes. \nRecuerden que este es un evento exclusivo para mayores de 18 años (con ID)\, diseñado para reunir a la comunidad rockera de la capital en una velada llena de pirotecnia\, máscaras y el mejor ambiente. ¡Corran por sus boletos y prepárense para vivir el festival más explosivo de la temporada en Mexicali! \nFecha: 27 de junio\, 2026.\nDonde: Foro Dragón.\nCosto: $200 pesos.\n**Aplican cargos por servicio.\nHora: 08:00 P.M. \nMás información:\nBoletos disponibles en: Primera Fila\nFacebook: /ForoDragon\nTel:. (686) 232-1500.
URL:https://hotelesdemexicali.com/evento/circus-fest-mexicali-2026/
LOCATION:Foro Dragón\, Blvd. Lázaro Cárdenas 555\, Ex-Ejido Coahuila\, Mexicali\, B.C.\, 21270\, Mexico
CATEGORIES:Concierto
ATTACH;FMTTYPE=image/webp:https://hotelesdemexicali.com/wp-content/uploads/2026/04/2026-06-27-circus-fest-en-mexicali.webp
END:VEVENT
END:VCALENDAR