BEGIN:VCALENDAR
VERSION:2.0
PRODID:-//Hoteles de Mexicali - ECPv6.15.17.1//NONSGML v1.0//EN
CALSCALE:GREGORIAN
METHOD:PUBLISH
X-ORIGINAL-URL:https://hotelesdemexicali.com
X-WR-CALDESC:Eventos para Hoteles de Mexicali
REFRESH-INTERVAL;VALUE=DURATION:PT1H
X-Robots-Tag:noindex
X-PUBLISHED-TTL:PT1H
BEGIN:VTIMEZONE
TZID:America/Tijuana
BEGIN:DAYLIGHT
TZOFFSETFROM:-0800
TZOFFSETTO:-0700
TZNAME:PDT
DTSTART:20250309T100000
END:DAYLIGHT
BEGIN:STANDARD
TZOFFSETFROM:-0700
TZOFFSETTO:-0800
TZNAME:PST
DTSTART:20251102T090000
END:STANDARD
BEGIN:DAYLIGHT
TZOFFSETFROM:-0800
TZOFFSETTO:-0700
TZNAME:PDT
DTSTART:20260308T100000
END:DAYLIGHT
BEGIN:STANDARD
TZOFFSETFROM:-0700
TZOFFSETTO:-0800
TZNAME:PST
DTSTART:20261101T090000
END:STANDARD
BEGIN:DAYLIGHT
TZOFFSETFROM:-0800
TZOFFSETTO:-0700
TZNAME:PDT
DTSTART:20270314T100000
END:DAYLIGHT
BEGIN:STANDARD
TZOFFSETFROM:-0700
TZOFFSETTO:-0800
TZNAME:PST
DTSTART:20271107T090000
END:STANDARD
END:VTIMEZONE
BEGIN:VEVENT
DTSTART;TZID=America/Tijuana:20260904T210000
DTEND;TZID=America/Tijuana:20260904T210000
DTSTAMP:20260419T152413
CREATED:20260320T033545Z
LAST-MODIFIED:20260320T033545Z
UID:1398-1788555600-1788555600@hotelesdemexicali.com
SUMMARY:Humbe: Dueño del Cielo Tour\, Mexicali 2026
DESCRIPTION:¡Mexicali se prepara para elevarse a las nubes con el talento de Humbe! Este viernes 4 de septiembre de 2026\, la Plaza de Toros Calafia abrirá sus puertas a las 9:00 pm para recibir el “Dueño del Cielo Tour”\, una de las giras más esperadas y emotivas del año. No pierdas la oportunidad de ser parte de esta atmósfera mágica donde la voz única del joven regiomontano y su propuesta melódica te harán vibrar en una noche diseñada para conectar con las emociones más profundas. \nPrepárate para corear los éxitos que han dominado las plataformas digitales en una producción de primer nivel que destaca por su cercanía y calidez. Humbe llega a la frontera en su mejor momento artístico\, prometiendo un repertorio amplio que recorre sus experiencias personales y los temas que lo han consolidado como un referente del pop actual. Asegura tus lugares ahora mismo y prepárate para vivir una velada inolvidable bajo el cielo cachanilla. ¡Nos vemos en la Calafia para cantar a todo pulmón! \nFecha: 04 de septiembre\, 2026.\nDonde: Plaza de Toros Calafia.\nCosto:\nGeneral – $700 pesos.\nTendido – $950 pesos.\nPreferente Lateral – $1\,250 pesos.\nPreferente\, General de Pie – $1\,700 pesos.\nBarrera – $2\,200 pesos.\n**Aplican cargos por servicio.\nHora: 09:00 P.M. \nMás información:\nTel.: (686) 555-2600.
URL:https://hotelesdemexicali.com/evento/humbe-dueno-del-cielo-tour-mexicali-2026/
LOCATION:Plaza de Toros Calafia\, C. Calafia 1096\, Centro Cívico\, Mexicali\, B.C.\, 21000\, Mexico
CATEGORIES:Concierto
ATTACH;FMTTYPE=image/webp:https://hotelesdemexicali.com/wp-content/uploads/2026/03/2026-09-04-humbe-en-mexicali.webp
END:VEVENT
END:VCALENDAR