BEGIN:VCALENDAR
VERSION:2.0
PRODID:-//Hoteles de Mexicali - ECPv6.15.17.1//NONSGML v1.0//EN
CALSCALE:GREGORIAN
METHOD:PUBLISH
X-ORIGINAL-URL:https://hotelesdemexicali.com
X-WR-CALDESC:Eventos para Hoteles de Mexicali
REFRESH-INTERVAL;VALUE=DURATION:PT1H
X-Robots-Tag:noindex
X-PUBLISHED-TTL:PT1H
BEGIN:VTIMEZONE
TZID:America/Tijuana
BEGIN:DAYLIGHT
TZOFFSETFROM:-0800
TZOFFSETTO:-0700
TZNAME:PDT
DTSTART:20250309T100000
END:DAYLIGHT
BEGIN:STANDARD
TZOFFSETFROM:-0700
TZOFFSETTO:-0800
TZNAME:PST
DTSTART:20251102T090000
END:STANDARD
BEGIN:DAYLIGHT
TZOFFSETFROM:-0800
TZOFFSETTO:-0700
TZNAME:PDT
DTSTART:20260308T100000
END:DAYLIGHT
BEGIN:STANDARD
TZOFFSETFROM:-0700
TZOFFSETTO:-0800
TZNAME:PST
DTSTART:20261101T090000
END:STANDARD
BEGIN:DAYLIGHT
TZOFFSETFROM:-0800
TZOFFSETTO:-0700
TZNAME:PDT
DTSTART:20270314T100000
END:DAYLIGHT
BEGIN:STANDARD
TZOFFSETFROM:-0700
TZOFFSETTO:-0800
TZNAME:PST
DTSTART:20271107T090000
END:STANDARD
END:VTIMEZONE
BEGIN:VEVENT
DTSTART;TZID=America/Tijuana:20260926T200000
DTEND;TZID=America/Tijuana:20260926T200000
DTSTAMP:20260419T165817
CREATED:20260312T005219Z
LAST-MODIFIED:20260312T005219Z
UID:830-1790452800-1790452800@hotelesdemexicali.com
SUMMARY:Arath Herce\, Mexicali 2026
DESCRIPTION:¡Prepárate para dejarte llevar por la voz y el talento de uno de los cantautores más prometedores de México! Arath Herce\, quien llega para envolvernos con su estilo único que fusiona el pop\, el folk y letras cargadas de honestidad. Es una invitación abierta para todos aquellos que buscan una noche de música auténtica y una conexión profunda a través de canciones que tocan el alma; asistir es la oportunidad perfecta para ser testigo del ascenso de una estrella en un ambiente íntimo y vibrante. \nNo pierdas la oportunidad de asegurar tus lugares con anticipación a través de los puntos de venta oficiales y formar parte de esta velada que promete ser un viaje emocional inolvidable. ¡Únete a la comunidad cachanilla para celebrar el talento joven y déjate conquistar por la magia de Arath Herce en vivo! \nFecha: 26 de septiembre\, 2026.\nDonde: Foro Dragón.\nCosto:\nSolo Acceso – $500 pesos.\nAcceso M&G – $900 pesos.\n**Aplican cargos por servicio.\nHora: 08:00 P.M. \nMás información:\nBoletos disponibles en: Primera Fila\nFacebook: /ForoDragon\nTel:. (686) 232-1500.
URL:https://hotelesdemexicali.com/evento/arath-herce-mexicali-2026/
LOCATION:Foro Dragón\, Blvd. Lázaro Cárdenas 555\, Ex-Ejido Coahuila\, Mexicali\, B.C.\, 21270\, Mexico
CATEGORIES:Concierto
ATTACH;FMTTYPE=image/webp:https://hotelesdemexicali.com/wp-content/uploads/2026/03/2026-09-26-arath-herce-en-mexicali.webp
END:VEVENT
END:VCALENDAR