BEGIN:VCALENDAR
VERSION:2.0
PRODID:-//Hoteles de Mexicali - ECPv6.15.17.1//NONSGML v1.0//EN
CALSCALE:GREGORIAN
METHOD:PUBLISH
X-ORIGINAL-URL:https://hotelesdemexicali.com
X-WR-CALDESC:Eventos para Hoteles de Mexicali
REFRESH-INTERVAL;VALUE=DURATION:PT1H
X-Robots-Tag:noindex
X-PUBLISHED-TTL:PT1H
BEGIN:VTIMEZONE
TZID:America/Tijuana
BEGIN:DAYLIGHT
TZOFFSETFROM:-0800
TZOFFSETTO:-0700
TZNAME:PDT
DTSTART:20250309T100000
END:DAYLIGHT
BEGIN:STANDARD
TZOFFSETFROM:-0700
TZOFFSETTO:-0800
TZNAME:PST
DTSTART:20251102T090000
END:STANDARD
BEGIN:DAYLIGHT
TZOFFSETFROM:-0800
TZOFFSETTO:-0700
TZNAME:PDT
DTSTART:20260308T100000
END:DAYLIGHT
BEGIN:STANDARD
TZOFFSETFROM:-0700
TZOFFSETTO:-0800
TZNAME:PST
DTSTART:20261101T090000
END:STANDARD
BEGIN:DAYLIGHT
TZOFFSETFROM:-0800
TZOFFSETTO:-0700
TZNAME:PDT
DTSTART:20270314T100000
END:DAYLIGHT
BEGIN:STANDARD
TZOFFSETFROM:-0700
TZOFFSETTO:-0800
TZNAME:PST
DTSTART:20271107T090000
END:STANDARD
END:VTIMEZONE
BEGIN:VEVENT
DTSTART;TZID=America/Tijuana:20260605T190000
DTEND;TZID=America/Tijuana:20260605T190000
DTSTAMP:20260419T173734
CREATED:20260411T061825Z
LAST-MODIFIED:20260411T062313Z
UID:1566-1780686000-1780686000@hotelesdemexicali.com
SUMMARY:Verano Fest: Brincos Dieras\, Mexicali 2026
DESCRIPTION:Prepárate para una noche de risas sin control con Brincos Dieras y su explosivo show “El Desmadre Continúa Tour 2026”\, un espectáculo irreverente\, divertido y sin filtros que promete hacerte reír de principio a fin. Con su estilo único y su humor directo\, este icónico personaje llega dispuesto a encender el escenario y conectar con el público como solo él sabe hacerlo. \nLa cita es este viernes 05 de junio en la Isla de las Estrellas del FEX en Mexicali\, B.C.\, como parte del Verano Fest Cachanilla. Un evento imperdible para quienes buscan pasarla bien\, olvidarse de todo y disfrutar de un show cargado de energía\, ocurrencias y carcajadas. \nNo te quedes fuera de una de las noches más esperadas del festival y vive en vivo la locura de Brincos Dieras. \nFecha: 05 de junio\, 2026.\nDonde: Fex Mexicali.\nCosto:\nGeneral – $300 pesos.\nVIP – $1\,500 pesos.\nHora: 07:00 P.M. \nMás información:\nBoletos disponibles en: ticketstar.com.mx
URL:https://hotelesdemexicali.com/evento/verano-fest-cachanilla-brincos-dieras-mexicali-2026/
LOCATION:FEX\, Río Nuevo 955\, Mexicali\, B.C.\, 21150\, Mexico
CATEGORIES:Comedia
ATTACH;FMTTYPE=image/webp:https://hotelesdemexicali.com/wp-content/uploads/2026/04/2026-06-05-brincos-dieras-en-mexicali.webp
END:VEVENT
BEGIN:VEVENT
DTSTART;TZID=America/Tijuana:20260613T190000
DTEND;TZID=America/Tijuana:20260613T190000
DTSTAMP:20260419T173734
CREATED:20260411T041247Z
LAST-MODIFIED:20260411T041247Z
UID:1531-1781377200-1781377200@hotelesdemexicali.com
SUMMARY:Isabel Fernández: "Fuera de Lugar"\, Mexicali 2026
DESCRIPTION:Una noche de risas incontrolables espera con la llegada de Isabel Fernández y su show de stand up comedy “Fuera de Lugar”. La cita es este próximo 13 de junio en el Foro Dragón. Las puertas abrirán a las 7:00 PM\, dando paso al show principal en punto de las 9:00 PM. Es la oportunidad perfecta para disfrutar del humor y las anécdotas que han consolidado a Isabel como una de las comediantes más relevantes de la escena actual. \nYa sea en compañía de amigos o en pareja\, esta presentación promete ser el plan ideal para sacudirse el estrés y vivir una experiencia llena de carcajadas en el corazón de la ciudad. Las entradas están disponibles hasta agotar existencias para esta velada de comedia con Isabel Fernández en Mexicali. \nFecha: 13 de junio\, 2026.\nDonde: Foro Dragón.\nCosto: $600 pesos.\n**Aplican cargos por servicio.\nHora: 07:00 P.M. \nMás información:\nBoletos disponibles en: Primera Fila\nFacebook: /ForoDragon\nTel:. (686) 232-1500.
URL:https://hotelesdemexicali.com/evento/isabel-fernandez-fuera-de-lugar-mexicali-2026/
LOCATION:Foro Dragón\, Blvd. Lázaro Cárdenas 555\, Ex-Ejido Coahuila\, Mexicali\, B.C.\, 21270\, Mexico
CATEGORIES:Comedia,Show,Stand Up
ATTACH;FMTTYPE=image/webp:https://hotelesdemexicali.com/wp-content/uploads/2026/04/2026-06-13-isabel-fernandez-en-mexicali.webp
END:VEVENT
END:VCALENDAR