BEGIN:VCALENDAR
VERSION:2.0
PRODID:-//Hoteles de Mexicali - ECPv6.15.17.1//NONSGML v1.0//EN
CALSCALE:GREGORIAN
METHOD:PUBLISH
X-WR-CALNAME:Hoteles de Mexicali
X-ORIGINAL-URL:https://hotelesdemexicali.com
X-WR-CALDESC:Eventos para Hoteles de Mexicali
REFRESH-INTERVAL;VALUE=DURATION:PT1H
X-Robots-Tag:noindex
X-PUBLISHED-TTL:PT1H
BEGIN:VTIMEZONE
TZID:America/Tijuana
BEGIN:DAYLIGHT
TZOFFSETFROM:-0800
TZOFFSETTO:-0700
TZNAME:PDT
DTSTART:20250309T100000
END:DAYLIGHT
BEGIN:STANDARD
TZOFFSETFROM:-0700
TZOFFSETTO:-0800
TZNAME:PST
DTSTART:20251102T090000
END:STANDARD
BEGIN:DAYLIGHT
TZOFFSETFROM:-0800
TZOFFSETTO:-0700
TZNAME:PDT
DTSTART:20260308T100000
END:DAYLIGHT
BEGIN:STANDARD
TZOFFSETFROM:-0700
TZOFFSETTO:-0800
TZNAME:PST
DTSTART:20261101T090000
END:STANDARD
BEGIN:DAYLIGHT
TZOFFSETFROM:-0800
TZOFFSETTO:-0700
TZNAME:PDT
DTSTART:20270314T100000
END:DAYLIGHT
BEGIN:STANDARD
TZOFFSETFROM:-0700
TZOFFSETTO:-0800
TZNAME:PST
DTSTART:20271107T090000
END:STANDARD
END:VTIMEZONE
BEGIN:VEVENT
DTSTART;TZID=America/Tijuana:20260320T070000
DTEND;TZID=America/Tijuana:20260320T190000
DTSTAMP:20260419T124619
CREATED:20251119T060521Z
LAST-MODIFIED:20260311T214213Z
UID:461-1773990000-1774033200@hotelesdemexicali.com
SUMMARY:Depeche Mode Experience\, Mexicali 2026
DESCRIPTION:¡Prepárate para una noche de sintetizadores y melancolía electrónica! El próximo viernes 20 de marzo a las 7:00 PM\, el Foro Sol del Museo Sol del Niño se transformará en una catedral del dark wave con el Depeche Mode Experience. Este evento promete una producción visual y sonora de primer nivel\, diseñada para transportarte a través de las décadas de gloria de la banda de Basildon\, desde sus inicios bailables hasta sus himnos más industriales y profundos. \nEs la oportunidad perfecta para que los “devotos” de Mexicali se reúnan y vibren con clásicos inmortales como Enjoy the Silence\, Personal Jesus y Policy of Truth. No te quedes fuera de esta experiencia inmersiva en uno de los recintos más emblemáticos de la ciudad; asegura tus boletos y prepárate para una velada donde la música electrónica será la absoluta protagonista. ¡La cuenta regresiva para el tributo definitivo ha comenzado! \nFecha: 20 de marzo\, 2026.\nDonde: Museo Sol del Niño – Foro Sol.\nCosto:\nAcceso filas A-E – $350 pesos.\nAcceso filas F-K – $250 pesos.\n**Aplican cargos por servicio.\nHora: 07:00 P.M. \nMás información:\nBoletos disponibles en: Primera Fila\nFacebook: /forosdn\nTel:. (686) 337-5405.
URL:https://hotelesdemexicali.com/evento/depeche-mode-experience-mexicali-2026/
LOCATION:Museo Sol del Niño\, Alfonso Esquer\, Blvd. Adolfo López Mateos S/N\, Zona Industrial\, Mexicali\, B.C.\, 21010\, Mexico
CATEGORIES:Concierto
ATTACH;FMTTYPE=image/webp:https://hotelesdemexicali.com/wp-content/uploads/2025/11/2026-03-20-depeche-mode-en-mexicali.webp
END:VEVENT
BEGIN:VEVENT
DTSTART;TZID=America/Tijuana:20260328T190000
DTEND;TZID=America/Tijuana:20260328T190000
DTSTAMP:20260419T124619
CREATED:20260311T184924Z
LAST-MODIFIED:20260311T214054Z
UID:771-1774724400-1774724400@hotelesdemexicali.com
SUMMARY:Xpecimen\, Mexicali 2026
DESCRIPTION:¡Prepárate para una noche de pura energía y nostalgia punk en Mexicali! El próximo 28 de marzo de 2026\, el Foro Dragon recibirá a Xpecimen (integrantes que formaron parte de la legendaria banda Espécimen)\, en un evento que promete revivir los himnos de discos emblemáticos como Genética\, Temas por la Paz y Buenas Noches Dios. Es una oportunidad única para que los seguidores del género en la capital de Baja California se reúnan y sean testigos de una ejecución poderosa que rinde homenaje a una de las trayectorias más influyentes del punk mexicano. \nLa cita comienza a las 8:00 p.m.\, donde la atmósfera vibrante de Mexicali se transformará en el epicentro del rock y la resistencia musical. No te quedes fuera de esta experiencia sonora que conecta a las viejas y nuevas generaciones de metaleros y punks; asegura tus entradas a través de los puntos de venta oficiales y únete a la comunidad para celebrar el legado de la “leyenda” en vivo. ¡Asiste y forma parte de una noche histórica que sacudirá los cimientos de la ciudad! \nFecha: 28 de marzo\, 2026.\nDonde: Foro Dragón.\nCosto:\nPreventa – $200 pesos.\nTaquilla – $300 pesos.\n**Aplican cargos por servicio.\nHora: 07:00 P.M. \nMás información:\nBoletos disponibles en: Primera Fila\nFacebook: /ForoDragon\nTel:. (686) 232-1500.
URL:https://hotelesdemexicali.com/evento/xpecimen-mexicali-2026/
LOCATION:Foro Dragón\, Blvd. Lázaro Cárdenas 555\, Ex-Ejido Coahuila\, Mexicali\, B.C.\, 21270\, Mexico
CATEGORIES:Concierto
ATTACH;FMTTYPE=image/webp:https://hotelesdemexicali.com/wp-content/uploads/2026/03/2026-03-28-xpecimen-en-tijuana.webp
END:VEVENT
END:VCALENDAR