BEGIN:VCALENDAR
VERSION:2.0
PRODID:-//Hoteles de Mexicali - ECPv6.15.17.1//NONSGML v1.0//EN
CALSCALE:GREGORIAN
METHOD:PUBLISH
X-WR-CALNAME:Hoteles de Mexicali
X-ORIGINAL-URL:https://hotelesdemexicali.com
X-WR-CALDESC:Eventos para Hoteles de Mexicali
REFRESH-INTERVAL;VALUE=DURATION:PT1H
X-Robots-Tag:noindex
X-PUBLISHED-TTL:PT1H
BEGIN:VTIMEZONE
TZID:America/Tijuana
BEGIN:DAYLIGHT
TZOFFSETFROM:-0800
TZOFFSETTO:-0700
TZNAME:PDT
DTSTART:20250309T100000
END:DAYLIGHT
BEGIN:STANDARD
TZOFFSETFROM:-0700
TZOFFSETTO:-0800
TZNAME:PST
DTSTART:20251102T090000
END:STANDARD
BEGIN:DAYLIGHT
TZOFFSETFROM:-0800
TZOFFSETTO:-0700
TZNAME:PDT
DTSTART:20260308T100000
END:DAYLIGHT
BEGIN:STANDARD
TZOFFSETFROM:-0700
TZOFFSETTO:-0800
TZNAME:PST
DTSTART:20261101T090000
END:STANDARD
BEGIN:DAYLIGHT
TZOFFSETFROM:-0800
TZOFFSETTO:-0700
TZNAME:PDT
DTSTART:20270314T100000
END:DAYLIGHT
BEGIN:STANDARD
TZOFFSETFROM:-0700
TZOFFSETTO:-0800
TZNAME:PST
DTSTART:20271107T090000
END:STANDARD
END:VTIMEZONE
BEGIN:VEVENT
DTSTART;TZID=America/Tijuana:20260416T200000
DTEND;TZID=America/Tijuana:20260416T200000
DTSTAMP:20260419T123345
CREATED:20260319T200225Z
LAST-MODIFIED:20260319T201214Z
UID:1348-1776369600-1776369600@hotelesdemexicali.com
SUMMARY:Concierto FIL UABC XXVII: 31 Minutos\, Mexicali 2026
DESCRIPTION:¡El noticiero más veraz de la televisión llega a Mexicali! Te invitamos a vivir una noche inolvidable con el concierto de 31 Minutos el próximo jueves 16 de abril a las 8:00 p.m. en la Unidad Deportiva Rubén Castro Bojórquez. Como el gran acto inaugural de los conciertos de la FIL UABC XXVII\, Tulio Triviño\, Juan Carlos Bodoque y compañía traerán toda su magia\, humor y grandes éxitos musicales en un espectáculo diseñado para disfrutar en familia. ¡Es la oportunidad perfecta para cantar a todo pulmón “Bailan sin César” y “Mi equilibrio espiritual” en vivo! \nLo mejor de todo es que este evento es de entrada libre\, reafirmando el compromiso de Cultura UABC por acercar el arte a toda la comunidad. Las puertas se abrirán desde las 7:30 p.m.\, así que te recomendamos llegar temprano para asegurar un buen lugar y ser parte de esta producción escénica única que mezcla títeres\, rock y mucha diversión. No faltes a esta cita especial en el marco de la Feria Internacional del Libro; ¡ven con tus amigos y familia a celebrar el inicio de una semana llena de cultura y ritmo! \nFecha: 16 de abril\, 2026.\nDonde: UABC Campus Mexicali – Unidad Deportiva Rubén Castro Bójorquez.\nCosto: Entrada libre.\nHora: 08:00 P.M. \nMás información:\nSitio Web: filuabc.mx\nFacebook: /filuabcmxl\nCorreo: publicaciones@uabc.edu.mx
URL:https://hotelesdemexicali.com/evento/concierto-fil-uabc-xxvii-31-minutos-mexicali-2026/
LOCATION:UABC Campus Mexicali\, Blvd. Benito Juárez 2500\, Parcela 44\, Mexicali\, B.C.\, 21280\, Mexico
CATEGORIES:Concierto,Literario
ATTACH;FMTTYPE=image/webp:https://hotelesdemexicali.com/wp-content/uploads/2026/03/2026-04-16-31-minutos-en-mexicali.webp
END:VEVENT
BEGIN:VEVENT
DTSTART;TZID=America/Tijuana:20260416T200000
DTEND;TZID=America/Tijuana:20260416T200000
DTSTAMP:20260419T123345
CREATED:20260406T190056Z
LAST-MODIFIED:20260411T031457Z
UID:1480-1776369600-1776369600@hotelesdemexicali.com
SUMMARY:Essaú Sayas\, Mexicali 2026
DESCRIPTION:¡Prepárate para una noche de risas garantizadas con el talento de Essau Sayas! El próximo jueves 16 de abril\, Mexicali recibirá a uno de los comediantes más frescos del momento en Malgro Cervecería. Si buscas un plan diferente para cortar la semana\, este show de stand up es la opción ideal para relajarte\, disfrutar de una excelente cerveza artesanal y dejarte llevar por el humor único de Essau en un ambiente íntimo y vibrante. \nLa cita es en el corazón de la ciudad\, con apertura de puertas a las 8:00 PM para que alcances buen lugar y el show iniciando puntualmente a las 9:00 PM. No te quedes fuera de este evento y asegura tus entradas cuanto antes\, ya que el cupo es limitado y la energía de Malgro promete hacer de esta una velada inolvidable. ¡Reúne a tus amigos y prepárate para reír a carcajadas con lo mejor de la comedia local! \nFecha: 16 de abril\, 2026.\nDonde: Malgro Cervecería & TapRoom.\nCosto: $250 pesos.\n**Aplican cargos por servicio.\nHora: 08:00 P.M. \nMás información:\nBoletos disponibles en: Primera Fila\nFacebook: /CervezaMalGro\nCorreo: cervezamalgro@gmail.com
URL:https://hotelesdemexicali.com/evento/essau-sayas-mexicali-2026/
LOCATION:Malgro Cervecería & TapRoom\, Av de los Jazmines 1109\, Las Hadas\, Mexicali\, B.C.\, 21210\, Mexico
CATEGORIES:Concierto
ATTACH;FMTTYPE=image/webp:https://hotelesdemexicali.com/wp-content/uploads/2026/04/2026-04-16-essau-en-mexicali.webp
END:VEVENT
BEGIN:VEVENT
DTSTART;TZID=America/Tijuana:20260416T200000
DTEND;TZID=America/Tijuana:20260421T200000
DTSTAMP:20260419T123345
CREATED:20260319T191804Z
LAST-MODIFIED:20260319T195623Z
UID:1333-1776369600-1776801600@hotelesdemexicali.com
SUMMARY:Conciertos FIL UABC XXVII\, Mexicali 2026
DESCRIPTION:¡La música y las letras se encuentran de nuevo en Mexicali! Te invitamos a ser parte de los Conciertos FIL UABC XXVII\, que este año transformarán el estacionamiento “C” de la Unidad Deportiva Rubén Castro Bojórquez en el epicentro cultural de la ciudad. Del 16 al 21 de abril\, la Feria Internacional del Libro no solo nos regalará grandes historias entre sus pasillos\, sino también noches inolvidables bajo las estrellas con una cartelera musical diseñada para todos los gustos. \nPrepárate para vibrar con una alineación de lujo que arranca con la energía de 31 Minutos\, pasando por el ritmo de Golden Ganga\, el romanticismo de Daniel\, Me Estás Matando\, y el talento emergente de Marly Marly\, Niño Viejo\, Bratty y Yami Safdie. Lo mejor de todo es que la entrada es libre\, por lo que solo necesitas traer tus ganas de disfrutar y compartir con amigos o familia en un ambiente seguro y lleno de arte. \nLas puertas se abrirán cada noche a las 7:30 pm para que asegures tu lugar antes de que la música comience puntualmente a las 8:00 pm. No dejes pasar la oportunidad de vivir la edición número 27 de la FIL UABC\, un evento que celebra nuestra identidad y nos conecta a través del sonido. ¡Nos vemos en la calle Churubusco y Av. Ignacio López Rayón para celebrar juntos el poder de la cultura! \nFecha: 16 al 21 de abril\, 2026.\nDonde: UABC Campus Mexicali – Unidad Deportiva Rubén Castro Bójorquez.\nCosto: Entrada libre.\nHora: 08:00 P.M. \nMás información:\nSitio Web: filuabc.mx\nFacebook: /filuabcmxl\nCorreo: publicaciones@uabc.edu.mx
URL:https://hotelesdemexicali.com/evento/conciertos-fil-uabc-xxvii-mexicali-2026/
LOCATION:UABC Campus Mexicali\, Blvd. Benito Juárez 2500\, Parcela 44\, Mexicali\, B.C.\, 21280\, Mexico
CATEGORIES:Concierto,Literario
ATTACH;FMTTYPE=image/webp:https://hotelesdemexicali.com/wp-content/uploads/2026/03/2026-04-1621-fil-uabc-en-mexicali.webp
END:VEVENT
END:VCALENDAR