BEGIN:VCALENDAR
VERSION:2.0
PRODID:-//Hoteles de Mexicali - ECPv6.15.17.1//NONSGML v1.0//EN
CALSCALE:GREGORIAN
METHOD:PUBLISH
X-WR-CALNAME:Hoteles de Mexicali
X-ORIGINAL-URL:https://hotelesdemexicali.com
X-WR-CALDESC:Eventos para Hoteles de Mexicali
REFRESH-INTERVAL;VALUE=DURATION:PT1H
X-Robots-Tag:noindex
X-PUBLISHED-TTL:PT1H
BEGIN:VTIMEZONE
TZID:America/Tijuana
BEGIN:DAYLIGHT
TZOFFSETFROM:-0800
TZOFFSETTO:-0700
TZNAME:PDT
DTSTART:20250309T100000
END:DAYLIGHT
BEGIN:STANDARD
TZOFFSETFROM:-0700
TZOFFSETTO:-0800
TZNAME:PST
DTSTART:20251102T090000
END:STANDARD
BEGIN:DAYLIGHT
TZOFFSETFROM:-0800
TZOFFSETTO:-0700
TZNAME:PDT
DTSTART:20260308T100000
END:DAYLIGHT
BEGIN:STANDARD
TZOFFSETFROM:-0700
TZOFFSETTO:-0800
TZNAME:PST
DTSTART:20261101T090000
END:STANDARD
BEGIN:DAYLIGHT
TZOFFSETFROM:-0800
TZOFFSETTO:-0700
TZNAME:PDT
DTSTART:20270314T100000
END:DAYLIGHT
BEGIN:STANDARD
TZOFFSETFROM:-0700
TZOFFSETTO:-0800
TZNAME:PST
DTSTART:20271107T090000
END:STANDARD
END:VTIMEZONE
BEGIN:VEVENT
DTSTART;TZID=America/Tijuana:20260416T200000
DTEND;TZID=America/Tijuana:20260421T200000
DTSTAMP:20260419T124252
CREATED:20260319T191804Z
LAST-MODIFIED:20260319T195623Z
UID:1333-1776369600-1776801600@hotelesdemexicali.com
SUMMARY:Conciertos FIL UABC XXVII\, Mexicali 2026
DESCRIPTION:¡La música y las letras se encuentran de nuevo en Mexicali! Te invitamos a ser parte de los Conciertos FIL UABC XXVII\, que este año transformarán el estacionamiento “C” de la Unidad Deportiva Rubén Castro Bojórquez en el epicentro cultural de la ciudad. Del 16 al 21 de abril\, la Feria Internacional del Libro no solo nos regalará grandes historias entre sus pasillos\, sino también noches inolvidables bajo las estrellas con una cartelera musical diseñada para todos los gustos. \nPrepárate para vibrar con una alineación de lujo que arranca con la energía de 31 Minutos\, pasando por el ritmo de Golden Ganga\, el romanticismo de Daniel\, Me Estás Matando\, y el talento emergente de Marly Marly\, Niño Viejo\, Bratty y Yami Safdie. Lo mejor de todo es que la entrada es libre\, por lo que solo necesitas traer tus ganas de disfrutar y compartir con amigos o familia en un ambiente seguro y lleno de arte. \nLas puertas se abrirán cada noche a las 7:30 pm para que asegures tu lugar antes de que la música comience puntualmente a las 8:00 pm. No dejes pasar la oportunidad de vivir la edición número 27 de la FIL UABC\, un evento que celebra nuestra identidad y nos conecta a través del sonido. ¡Nos vemos en la calle Churubusco y Av. Ignacio López Rayón para celebrar juntos el poder de la cultura! \nFecha: 16 al 21 de abril\, 2026.\nDonde: UABC Campus Mexicali – Unidad Deportiva Rubén Castro Bójorquez.\nCosto: Entrada libre.\nHora: 08:00 P.M. \nMás información:\nSitio Web: filuabc.mx\nFacebook: /filuabcmxl\nCorreo: publicaciones@uabc.edu.mx
URL:https://hotelesdemexicali.com/evento/conciertos-fil-uabc-xxvii-mexicali-2026/
LOCATION:UABC Campus Mexicali\, Blvd. Benito Juárez 2500\, Parcela 44\, Mexicali\, B.C.\, 21280\, Mexico
CATEGORIES:Concierto,Literario
ATTACH;FMTTYPE=image/webp:https://hotelesdemexicali.com/wp-content/uploads/2026/03/2026-04-1621-fil-uabc-en-mexicali.webp
END:VEVENT
BEGIN:VEVENT
DTSTART;TZID=America/Tijuana:20260418T070000
DTEND;TZID=America/Tijuana:20260418T190000
DTSTAMP:20260419T124252
CREATED:20260311T194211Z
LAST-MODIFIED:20260311T214027Z
UID:779-1776495600-1776538800@hotelesdemexicali.com
SUMMARY:The Family Values Tribute Show\, Mexicali 2026
DESCRIPTION:¡Prepárate para un viaje directo a los años 90 y 2000 con The Family Values Tribute Show en Mexicali! El próximo sábado 18 de abril de 2026\, el Foro Dragón se convertirá en el epicentro del nu metal y el metal industrial con un espectáculo diseñado para los verdaderos fans del género. Tres poderosas bandas tributo aterrizarán en la ciudad para rendir homenaje a los iconos que definieron una era: Korn\, Deftones y System of a Down\, garantizando una noche de energía brutal y nostalgia pura en cada acorde. \nEs una oportunidad imperdible para unirse a la comunidad de Mexicali y revivir los himnos que definieron a toda una generación. \nSe recomienda adquirir las entradas con anticipación para no quedar fuera de esta jornada histórica de potencia auditiva y nostalgia. ¿Se requiere información adicional sobre los precios de los boletos o los puntos de venta físicos autorizados? \nFecha: 18 de abril\, 2026.\nDonde: Foro Dragón.\nCosto: $200 pesos.\n**Aplican cargos por servicio.\nHora: 07:00 P.M. \nMás información:\nBoletos disponibles en: Primera Fila\nFacebook: /ForoDragon\nTel:. (686) 232-1500.
URL:https://hotelesdemexicali.com/evento/the-family-values-tribute-show-mexicali-2026/
LOCATION:Foro Dragón\, Blvd. Lázaro Cárdenas 555\, Ex-Ejido Coahuila\, Mexicali\, B.C.\, 21270\, Mexico
CATEGORIES:Concierto,Show
ATTACH;FMTTYPE=image/webp:https://hotelesdemexicali.com/wp-content/uploads/2026/03/2026-04-18-the-family-values-en-mexicali.webp
END:VEVENT
BEGIN:VEVENT
DTSTART;TZID=America/Tijuana:20260418T200000
DTEND;TZID=America/Tijuana:20260418T200000
DTSTAMP:20260419T124252
CREATED:20260319T201507Z
LAST-MODIFIED:20260319T201909Z
UID:1353-1776542400-1776542400@hotelesdemexicali.com
SUMMARY:Concierto FIL UABC: Daniel\, Me Estas Matando\, Mexicali 2026
DESCRIPTION:¡El romance y la nostalgia se apoderan de Mexicali! Te invitamos a vivir una noche inolvidable con el dueto Daniel\, Me Estás Matando el próximo sábado 18 de abril a las 8:00 p.m. en la Unidad Deportiva Rubén Castro Bojórquez. Como parte estelar de los Conciertos FIL UABC XXVII\, este evento de entrada libre promete envolverte en su característico estilo de “boleroglam”\, fusionando los sonidos clásicos del bolero con una propuesta fresca y contemporánea que te hará vibrar el corazón. \nLa cita es en el Estacionamiento “C” (ubicado en calle Churubusco y Av. Ignacio López Rayón)\, donde las puertas se abrirán desde las 7:30 p.m. para recibir a todos los enamorados y amantes de la buena música. No dejes pasar la oportunidad de disfrutar de este concierto único en el marco de la Feria Internacional del Libro de la UABC; es el plan perfecto para cerrar el sábado con broche de oro bajo las estrellas de nuestra ciudad. ¡Te esperamos para cantar juntos sus mejores éxitos! \nFecha: 18 de abril\, 2026.\nDonde: UABC Campus Mexicali – Unidad Deportiva Rubén Castro Bójorquez.\nCosto: Entrada libre.\nHora: 08:00 P.M. \nMás información:\nSitio Web: filuabc.mx\nFacebook: /filuabcmxl\nCorreo: publicaciones@uabc.edu.mx
URL:https://hotelesdemexicali.com/evento/concierto-fil-uabc-daniel-me-estas-matando-mexicali-2026/
LOCATION:UABC Campus Mexicali\, Blvd. Benito Juárez 2500\, Parcela 44\, Mexicali\, B.C.\, 21280\, Mexico
CATEGORIES:Concierto,Literario
ATTACH;FMTTYPE=image/webp:https://hotelesdemexicali.com/wp-content/uploads/2026/03/2026-04-18-daniel-me-estas-matando-en-mexicali.webp
END:VEVENT
END:VCALENDAR