BEGIN:VCALENDAR
VERSION:2.0
PRODID:-//Hoteles de Mexicali - ECPv6.15.17.1//NONSGML v1.0//EN
CALSCALE:GREGORIAN
METHOD:PUBLISH
X-ORIGINAL-URL:https://hotelesdemexicali.com
X-WR-CALDESC:Eventos para Hoteles de Mexicali
REFRESH-INTERVAL;VALUE=DURATION:PT1H
X-Robots-Tag:noindex
X-PUBLISHED-TTL:PT1H
BEGIN:VTIMEZONE
TZID:America/Tijuana
BEGIN:DAYLIGHT
TZOFFSETFROM:-0800
TZOFFSETTO:-0700
TZNAME:PDT
DTSTART:20250309T100000
END:DAYLIGHT
BEGIN:STANDARD
TZOFFSETFROM:-0700
TZOFFSETTO:-0800
TZNAME:PST
DTSTART:20251102T090000
END:STANDARD
BEGIN:DAYLIGHT
TZOFFSETFROM:-0800
TZOFFSETTO:-0700
TZNAME:PDT
DTSTART:20260308T100000
END:DAYLIGHT
BEGIN:STANDARD
TZOFFSETFROM:-0700
TZOFFSETTO:-0800
TZNAME:PST
DTSTART:20261101T090000
END:STANDARD
BEGIN:DAYLIGHT
TZOFFSETFROM:-0800
TZOFFSETTO:-0700
TZNAME:PDT
DTSTART:20270314T100000
END:DAYLIGHT
BEGIN:STANDARD
TZOFFSETFROM:-0700
TZOFFSETTO:-0800
TZNAME:PST
DTSTART:20271107T090000
END:STANDARD
END:VTIMEZONE
BEGIN:VEVENT
DTSTART;TZID=America/Tijuana:20260424T180000
DTEND;TZID=America/Tijuana:20260424T180000
DTSTAMP:20260419T123504
CREATED:20260406T174701Z
LAST-MODIFIED:20260406T174701Z
UID:1474-1777053600-1777053600@hotelesdemexicali.com
SUMMARY:Santa RM\, Mexicali 2026
DESCRIPTION:¡Prepárate para una noche legendaria de hip-hop en Mexicali! El próximo 24 de abril a las 6:00 PM\, el Bar Chinesca será el escenario de una celebración épica: Los 20 años de carrera de Santa RM. Acompañado por Leyruk y Deivid DLM\, el rapero sonorense promete un show cargado de nostalgia\, rimas potentes y toda la energía que lo ha consolidado como un referente del género. Es una oportunidad única para vivir de cerca un recorrido por dos décadas de éxitos en un ambiente vibrante y directo. \nNo te quedes fuera de este evento histórico y asegura tu lugar en cualquiera de sus zonas: General\, VIP o Super Fan para una experiencia más cercana. Reúne a tus amigos\, prepárate para corear cada letra y celebra junto a Santa RM veinte años de pura cultura urbana. ¡Nos vemos en la Chinesca! \nFecha: 24 de Abril\, 2026.\nDonde: Bar Chinesca.\nCosto:\nGeneral – $250 pesos.\nVIP – $750 pesos.\nSuper Fan – $1\,200 pesos.\n**Aplican cargos por servicio.\nHora: 06:00 P.M. \nMás información:\nFacebook: /BAR-chinesca
URL:https://hotelesdemexicali.com/evento/santa-rm-mexicali-2026/
LOCATION:Bar Chinesca\, C. Juárez 22\, Primera\, Mexicali\, B.C.\, 21100\, Mexico
CATEGORIES:Concierto
ATTACH;FMTTYPE=image/webp:https://hotelesdemexicali.com/wp-content/uploads/2026/03/2026-04-24-santa-rm-en-mexicali.webp
END:VEVENT
END:VCALENDAR