BEGIN:VCALENDAR
VERSION:2.0
PRODID:-//Hoteles de Mexicali - ECPv6.15.17.1//NONSGML v1.0//EN
CALSCALE:GREGORIAN
METHOD:PUBLISH
X-WR-CALNAME:Hoteles de Mexicali
X-ORIGINAL-URL:https://hotelesdemexicali.com
X-WR-CALDESC:Eventos para Hoteles de Mexicali
REFRESH-INTERVAL;VALUE=DURATION:PT1H
X-Robots-Tag:noindex
X-PUBLISHED-TTL:PT1H
BEGIN:VTIMEZONE
TZID:America/Tijuana
BEGIN:DAYLIGHT
TZOFFSETFROM:-0800
TZOFFSETTO:-0700
TZNAME:PDT
DTSTART:20250309T100000
END:DAYLIGHT
BEGIN:STANDARD
TZOFFSETFROM:-0700
TZOFFSETTO:-0800
TZNAME:PST
DTSTART:20251102T090000
END:STANDARD
BEGIN:DAYLIGHT
TZOFFSETFROM:-0800
TZOFFSETTO:-0700
TZNAME:PDT
DTSTART:20260308T100000
END:DAYLIGHT
BEGIN:STANDARD
TZOFFSETFROM:-0700
TZOFFSETTO:-0800
TZNAME:PST
DTSTART:20261101T090000
END:STANDARD
BEGIN:DAYLIGHT
TZOFFSETFROM:-0800
TZOFFSETTO:-0700
TZNAME:PDT
DTSTART:20270314T100000
END:DAYLIGHT
BEGIN:STANDARD
TZOFFSETFROM:-0700
TZOFFSETTO:-0800
TZNAME:PST
DTSTART:20271107T090000
END:STANDARD
END:VTIMEZONE
BEGIN:VEVENT
DTSTART;TZID=America/Tijuana:20260425T180000
DTEND;TZID=America/Tijuana:20260425T180000
DTSTAMP:20260419T124252
CREATED:20260311T222541Z
LAST-MODIFIED:20260311T222541Z
UID:811-1777140000-1777140000@hotelesdemexicali.com
SUMMARY:U2 Achtung Baby Experience\, Mexicali 2026
DESCRIPTION:¡Prepárate para una explosión de adrenalina y tradición con el regreso de Colosos del Ring a Mexicali! Este 2026\, la promotora continúa su misión de revitalizar la lucha libre en la capital\, ofreciendo un espectáculo de clase mundial que combina la maestría de leyendas consagradas con la energía de las nuevas promesas del cuadrilátero. Es el evento perfecto para los aficionados de hueso colorado y para las familias que buscan vivir de cerca la emoción de las llaves\, los vuelos espectaculares y la eterna batalla entre rudos y técnicos en un ambiente totalmente eléctrico. \nFecha: 25 de abril\, 2026.\nDonde: Museo Sol del Niño – Foro Sol.\nCosto:\nFilas A-E – $350 pesos.\nFilas F-K – $250 pesos.\n**Aplican cargos por servicio.\nHora: 06:00 P.M. \nMás información:\nBoletos disponibles en: Primera Fila\nFacebook: /forosdn\nTel:. (686) 337-5405.
URL:https://hotelesdemexicali.com/evento/u2-achtung-baby-experience-mexicali-2026/
LOCATION:Museo Sol del Niño\, Alfonso Esquer\, Blvd. Adolfo López Mateos S/N\, Zona Industrial\, Mexicali\, B.C.\, 21010\, Mexico
CATEGORIES:Concierto
ATTACH;FMTTYPE=image/webp:https://hotelesdemexicali.com/wp-content/uploads/2026/03/2026-04-25-u2-achtung-baby-experience-en-mexicali.webp
END:VEVENT
BEGIN:VEVENT
DTSTART;TZID=America/Tijuana:20260425T200000
DTEND;TZID=America/Tijuana:20260425T200000
DTSTAMP:20260419T124252
CREATED:20260411T052137Z
LAST-MODIFIED:20260411T052137Z
UID:1545-1777147200-1777147200@hotelesdemexicali.com
SUMMARY:Satoshi Tomiie\, Mexicali 2026
DESCRIPTION:Prepárense para una noche de clase mundial con la llegada del legendario DJ y productor japonés Satoshi Tomiie. Este próximo sábado 25 de abril\, la Terraza Barrio Chino se transformará en el epicentro de la música electrónica de vanguardia a partir de las 8:00 P.M. Bajo el sello de Sunsound\, este evento promete una atmósfera inigualable donde los ritmos sofisticados de Satoshi\, acompañados por la invitada especial Léxica\, harán vibrar al público en una velada íntima y exclusiva. \nNo dejen pasar la oportunidad de presenciar a una de las figuras más influyentes del house global en el corazón de la ciudad. Aseguren su lugar adquiriendo las entradas a través de la plataforma de Ticketnauta\, ya que el cupo es limitado para garantizar la mejor experiencia sonora. Es momento de reunir a los amigos y prepararse para disfrutar de una noche épica bajo las estrellas en lo que será\, sin duda\, uno de los mejores eventos electrónicos del año en la capital. \nFecha: 25 de abril\, 2026.\nDonde: Terraza Barrio Chino.\nCosto: $620 pesos.\n**Aplican cargos por servicio.\nFunciones: 08:00 P.M. \nMás información:\nBoletos disponibles en: ticketnauta.com
URL:https://hotelesdemexicali.com/evento/satoshi-tomiie-mexicali-2026/
LOCATION:Terraza Barrio Chino\, C. Juárez 20\, Primera\, Mexicali\, B.C.\, 21100\, Mexico
CATEGORIES:Concierto
ATTACH;FMTTYPE=image/webp:https://hotelesdemexicali.com/wp-content/uploads/2026/04/2026-04-25-satoshi-tomiie-en-mexicali.webp
END:VEVENT
END:VCALENDAR