BEGIN:VCALENDAR
VERSION:2.0
PRODID:-//Hoteles de Mexicali - ECPv6.15.17.1//NONSGML v1.0//EN
CALSCALE:GREGORIAN
METHOD:PUBLISH
X-ORIGINAL-URL:https://hotelesdemexicali.com
X-WR-CALDESC:Eventos para Hoteles de Mexicali
REFRESH-INTERVAL;VALUE=DURATION:PT1H
X-Robots-Tag:noindex
X-PUBLISHED-TTL:PT1H
BEGIN:VTIMEZONE
TZID:America/Tijuana
BEGIN:DAYLIGHT
TZOFFSETFROM:-0800
TZOFFSETTO:-0700
TZNAME:PDT
DTSTART:20250309T100000
END:DAYLIGHT
BEGIN:STANDARD
TZOFFSETFROM:-0700
TZOFFSETTO:-0800
TZNAME:PST
DTSTART:20251102T090000
END:STANDARD
BEGIN:DAYLIGHT
TZOFFSETFROM:-0800
TZOFFSETTO:-0700
TZNAME:PDT
DTSTART:20260308T100000
END:DAYLIGHT
BEGIN:STANDARD
TZOFFSETFROM:-0700
TZOFFSETTO:-0800
TZNAME:PST
DTSTART:20261101T090000
END:STANDARD
BEGIN:DAYLIGHT
TZOFFSETFROM:-0800
TZOFFSETTO:-0700
TZNAME:PDT
DTSTART:20270314T100000
END:DAYLIGHT
BEGIN:STANDARD
TZOFFSETFROM:-0700
TZOFFSETTO:-0800
TZNAME:PST
DTSTART:20271107T090000
END:STANDARD
END:VTIMEZONE
BEGIN:VEVENT
DTSTART;TZID=America/Tijuana:20260521T180000
DTEND;TZID=America/Tijuana:20260607T233000
DTSTAMP:20260419T141713
CREATED:20260406T223033Z
LAST-MODIFIED:20260411T062239Z
UID:1504-1779386400-1780875000@hotelesdemexicali.com
SUMMARY:Verano Fest Cachanilla\, Mexicali 2026
DESCRIPTION:El Verano Fest Cachanilla 2026 llega a Mexicali\, Baja California\, como uno de los eventos musicales más esperados del año. Esta gran serie de conciertos se llevará a cabo del 21 de mayo al 07 de junio\, reuniendo a destacados artistas en un mismo escenario. \nLa Isla de las Estrellas de Mexicali será el epicentro de este festival\, ofreciendo un espacio ideal para disfrutar de espectáculos en vivo con gran producción. Miles de asistentes podrán vivir noches llenas de música\, energía y entretenimiento en uno de los recintos más importantes de la ciudad. \nDurante varias semanas\, el festival ofrecerá una amplia variedad de géneros musicales\, convirtiéndose en una opción perfecta para todos los gustos. El Verano Fest Cachanilla 2026 promete experiencias únicas en cada concierto\, consolidándose como un referente en la región. \nLa cartelera artística del Verano Fest Cachanilla 2026 será uno de sus mayores atractivos\, reuniendo talentos reconocidos que harán vibrar al público en cada presentación. Cada noche estará marcada por espectáculos de alto nivel que garantizan una experiencia inolvidable. \nAdemás de los conciertos\, el ambiente festivo en la Isla de las Estrellas permitirá a los asistentes disfrutar de una experiencia completa\, con espacios para convivir\, disfrutar de alimentos y compartir momentos especiales con amigos y familia. \nEl Verano Fest Cachanilla 2026 en Mexicali se perfila como uno de los eventos más importantes del noroeste del país. Con su combinación de música en vivo\, ambiente vibrante y grandes artistas\, será una excelente opción para disfrutar entre mayo y junio en Baja California. \nCartelera Artística Verano Fest Cachanilla 2026 \nCuando: 21 de mayo\, 2026.\nArtista: Diferente Nivel.\nPrecio: VIP – $1\,000 | General – $200 pesos. \nCuando: 22 de mayo\, 2026.\nArtista: Panter Bélico.\nPrecio: VIP – $1\,300 | General – $200 pesos. \nCuando: 23 de mayo\, 2026.\nArtista: Sorpresa. \nCuando: 24 de mayo\, 2026.\nArtista: Sorpresa. \nCuando: 28 de mayo\, 2026.\nArtista: Tito Torbellino Jr.\nPrecio: VIP – $1\,000 | General – $100 pesos. \nCuando: 29 de mayo\, 2026.\nArtista: Luis R Conriquez.\nPrecio: VIP – $1\,500 | General – $300 pesos. \nCuando: 30 de mayo\, 2026.\nArtista: Sorpresa. \nCuando: 31 de mayo\, 2026.\nArtista: Sorpresa. \nCuando: 04 de junio\, 2026.\nArtista: Grupo Selectivo.\nPrecio: VIP – $1\,000 | General – $100 pesos. \nCuando: 05 de junio\, 2026.\nArtista: Sorpresa. \nCuando: 06 de junio\, 2026.\nArtista: Sorpresa. \nCuando: 07 de junio\, 2026.\nArtista: Espinoza Paz.\nPrecio: General – $200 pesos.
URL:https://hotelesdemexicali.com/evento/verano-fest-cachanilla-mexicali-2026/
LOCATION:FEX\, Río Nuevo 955\, Mexicali\, B.C.\, 21150\, Mexico
CATEGORIES:Concierto,Fest
ATTACH;FMTTYPE=image/webp:https://hotelesdemexicali.com/wp-content/uploads/2026/04/2026-0506-2107-verano-fest-cachanilla-en-mexicali.webp
END:VEVENT
BEGIN:VEVENT
DTSTART;TZID=America/Tijuana:20260523T180000
DTEND;TZID=America/Tijuana:20260523T180000
DTSTAMP:20260419T141713
CREATED:20260411T044555Z
LAST-MODIFIED:20260411T044555Z
UID:1543-1779559200-1779559200@hotelesdemexicali.com
SUMMARY:"Pvlse" Tributo a Pink Floyd\, Mexicali 2026
DESCRIPTION:¡Prepárate para despertar tus sentidos en el Baja Coffee Fest! El próximo 16 de mayo\, el Bosque de la Ciudad en Mexicali se transformará en el paraíso terrenal para todos los amantes del café. Será una jornada única donde podrás disfrutar de las mejores mezclas locales\, sumergirte en una experiencia sensorial inigualable y dejarte llevar por el ritmo de la música en vivo y los sets de DJ House. Es la oportunidad perfecta para relajarte bajo la sombra de los árboles mientras descubres nuevos sabores y apoyas al talento cafetalero de la región. \nNo te quedes fuera de esta gran celebración y asegura tu lugar adquiriendo tus boletos a través de primerafila.mx. Ya sea que vayas con amigos\, en familia o simplemente busques un plan diferente para disfrutar del fin de semana\, el Baja Coffee Fest promete una atmósfera vibrante llena de aroma y buena energía. Marca la fecha en tu calendario\, prepara tu taza favorita y ven a vivir una experiencia que combina lo mejor de la cultura del café con el entretenimiento local. ¡Nos vemos en el Bosque para brindar con el mejor grano! \nFecha: 23 de mayo\, 2026.\nDonde: Bosque de la Ciudad.\nCosto:\nPreferente Preventa – $500 pesos.\nPreferente Taquilla – $550 pesos.\nGeneral Preventa – $300 pesos.\nGeneral Taquilla -$350 pesos.\n**Aplican cargos por servicio.\nFunciones: 06:00 P.M. \nMás información:\nBoletos disponibles en: Primera Fila\nFacebook: /BosqueYZoologicoDeLaCiudad\nTel: (686) 558-9080.\nCorreo: bosquecd@hotmail.com
URL:https://hotelesdemexicali.com/evento/pvlse-tributo-a-pink-floyd-mexicali-2026/
LOCATION:Bosque de la Ciudad\, C. Alvarado S/N\, Nueva Esperanza\, Mexicali\, B.C.\, 21050\, Mexico
CATEGORIES:Concierto
ATTACH;FMTTYPE=image/webp:https://hotelesdemexicali.com/wp-content/uploads/2026/04/2026-05-23-pink-floyd-en-mexicali.webp
END:VEVENT
BEGIN:VEVENT
DTSTART;TZID=America/Tijuana:20260523T200000
DTEND;TZID=America/Tijuana:20260523T200000
DTSTAMP:20260419T141713
CREATED:20260319T213848Z
LAST-MODIFIED:20260319T213848Z
UID:1365-1779566400-1779566400@hotelesdemexicali.com
SUMMARY:Julieta Venegas: Norteña Tour\, Mexicali 2026
DESCRIPTION:¡Mexicali se prepara para una noche inolvidable! Julieta Venegas regresa a casa para dar inicio a su esperado Norteña Tour 2026 este próximo viernes 23 de mayo. La icónica Plaza Calafia será el escenario donde la cantautora tijuanense presentará su nueva etapa musical\, envolviendo a la capital de Baja California en una atmósfera llena de nostalgia y frescura. No pierdas la oportunidad de ser de los primeros en vivir este arranque de gira en un evento que promete conectar profundamente con sus raíces y su público. \n¡Asegura tu lugar en esta velada mágica! Los boletos estarán disponibles a partir del 20 de enero a través de los canales oficiales de venta. Te recomendamos estar atento para adquirir los tuyos con anticipación y llegar temprano al recinto para disfrutar de cada momento de esta gran producción. Ven a cantar a todo pulmón los éxitos que han marcado generaciones y celebra junto a Julieta Venegas el comienzo de una travesía musical que marcará el 2026. \nFecha: 23 de mayo\, 2026.\nDonde: Plaza de Toros Calafia.\nCosto:\nGeneral – $500 pesos.\nTendido – $600 pesos.\nPreferente Lateral – $700 pesos.\nPreferente\, Barrera – $850 pesos.\nVIP – $1\,100 pesos.\n**Aplican cargos por servicio.\nHora: 08:00 P.M. \nMás información:\nTel.: (686) 555-2600.
URL:https://hotelesdemexicali.com/evento/julieta-venegas-nortena-tour-mexicali-2026/
LOCATION:Plaza de Toros Calafia\, C. Calafia 1096\, Centro Cívico\, Mexicali\, B.C.\, 21000\, Mexico
CATEGORIES:Concierto
ATTACH;FMTTYPE=image/webp:https://hotelesdemexicali.com/wp-content/uploads/2026/03/2026-05-23-julieta-venegas-en-mexicali.webp
END:VEVENT
BEGIN:VEVENT
DTSTART;TZID=America/Tijuana:20260523T210000
DTEND;TZID=America/Tijuana:20260523T210000
DTSTAMP:20260419T141713
CREATED:20260411T043136Z
LAST-MODIFIED:20260411T044109Z
UID:1539-1779570000-1779570000@hotelesdemexicali.com
SUMMARY:Rico o Muerto Tour\, Mexicali 2026
DESCRIPTION:Prepárense para una noche cargada de rimas y la mejor energía del género urbano con la llegada de este gran tour musical a la ciudad. Este próximo sábado 23 de mayo\, la Ciudad Deportiva se convertirá en el epicentro del movimiento\, reuniendo a destacados exponentes en un escenario que promete vibrar de principio a fin. Bajo el cielo cachanilla\, el público podrá disfrutar de un espectáculo lleno de beats potentes y letras que marcan tendencia\, garantizando una experiencia memorable para todos los seguidores de la escena. \nNo se queden fuera de este evento que forma parte de una de las giras más esperadas de 2026 en la capital. Aseguren su lugar con tiempo y prepárense para disfrutar de una velada rodeados de amigos y del mejor ambiente musical. Es el momento de marcar los calendarios y adquirir las entradas\, porque la cita en la Ciudad Deportiva es el punto de encuentro para quienes quieran vivir la adrenalina de la música en vivo. \nFecha: 23 de mayo\, 2026.\nDonde: Ciudad Deportiva.\nCosto:\nVip – $2\,500 pesos.\nPlatino – $2\,000 pesos.\nOro – $1\,000 pesos.\nPlata – $500 pesos.\nGeneral – $300 pesos.\n**Aplican cargos por servicio.\nHora: 09:00 P.M.
URL:https://hotelesdemexicali.com/evento/rico-o-muerto-tour-mexicali-2026/
LOCATION:Ciudad Deportiva\, Calz Aviación s/n\, Cuauhtémoc\, Mexicali\, B.C.\, 21230\, Mexico
CATEGORIES:Concierto
ATTACH;FMTTYPE=image/webp:https://hotelesdemexicali.com/wp-content/uploads/2026/04/2026-05-23-rico-muerto-en-mexicali.webp
END:VEVENT
END:VCALENDAR