BEGIN:VCALENDAR
VERSION:2.0
PRODID:-//Hoteles de Mexicali - ECPv6.15.17.1//NONSGML v1.0//EN
CALSCALE:GREGORIAN
METHOD:PUBLISH
X-ORIGINAL-URL:https://hotelesdemexicali.com
X-WR-CALDESC:Eventos para Hoteles de Mexicali
REFRESH-INTERVAL;VALUE=DURATION:PT1H
X-Robots-Tag:noindex
X-PUBLISHED-TTL:PT1H
BEGIN:VTIMEZONE
TZID:America/Tijuana
BEGIN:DAYLIGHT
TZOFFSETFROM:-0800
TZOFFSETTO:-0700
TZNAME:PDT
DTSTART:20250309T100000
END:DAYLIGHT
BEGIN:STANDARD
TZOFFSETFROM:-0700
TZOFFSETTO:-0800
TZNAME:PST
DTSTART:20251102T090000
END:STANDARD
BEGIN:DAYLIGHT
TZOFFSETFROM:-0800
TZOFFSETTO:-0700
TZNAME:PDT
DTSTART:20260308T100000
END:DAYLIGHT
BEGIN:STANDARD
TZOFFSETFROM:-0700
TZOFFSETTO:-0800
TZNAME:PST
DTSTART:20261101T090000
END:STANDARD
BEGIN:DAYLIGHT
TZOFFSETFROM:-0800
TZOFFSETTO:-0700
TZNAME:PDT
DTSTART:20270314T100000
END:DAYLIGHT
BEGIN:STANDARD
TZOFFSETFROM:-0700
TZOFFSETTO:-0800
TZNAME:PST
DTSTART:20271107T090000
END:STANDARD
END:VTIMEZONE
BEGIN:VEVENT
DTSTART;TZID=America/Tijuana:20260521T180000
DTEND;TZID=America/Tijuana:20260607T233000
DTSTAMP:20260419T141632
CREATED:20260406T223033Z
LAST-MODIFIED:20260411T062239Z
UID:1504-1779386400-1780875000@hotelesdemexicali.com
SUMMARY:Verano Fest Cachanilla\, Mexicali 2026
DESCRIPTION:El Verano Fest Cachanilla 2026 llega a Mexicali\, Baja California\, como uno de los eventos musicales más esperados del año. Esta gran serie de conciertos se llevará a cabo del 21 de mayo al 07 de junio\, reuniendo a destacados artistas en un mismo escenario. \nLa Isla de las Estrellas de Mexicali será el epicentro de este festival\, ofreciendo un espacio ideal para disfrutar de espectáculos en vivo con gran producción. Miles de asistentes podrán vivir noches llenas de música\, energía y entretenimiento en uno de los recintos más importantes de la ciudad. \nDurante varias semanas\, el festival ofrecerá una amplia variedad de géneros musicales\, convirtiéndose en una opción perfecta para todos los gustos. El Verano Fest Cachanilla 2026 promete experiencias únicas en cada concierto\, consolidándose como un referente en la región. \nLa cartelera artística del Verano Fest Cachanilla 2026 será uno de sus mayores atractivos\, reuniendo talentos reconocidos que harán vibrar al público en cada presentación. Cada noche estará marcada por espectáculos de alto nivel que garantizan una experiencia inolvidable. \nAdemás de los conciertos\, el ambiente festivo en la Isla de las Estrellas permitirá a los asistentes disfrutar de una experiencia completa\, con espacios para convivir\, disfrutar de alimentos y compartir momentos especiales con amigos y familia. \nEl Verano Fest Cachanilla 2026 en Mexicali se perfila como uno de los eventos más importantes del noroeste del país. Con su combinación de música en vivo\, ambiente vibrante y grandes artistas\, será una excelente opción para disfrutar entre mayo y junio en Baja California. \nCartelera Artística Verano Fest Cachanilla 2026 \nCuando: 21 de mayo\, 2026.\nArtista: Diferente Nivel.\nPrecio: VIP – $1\,000 | General – $200 pesos. \nCuando: 22 de mayo\, 2026.\nArtista: Panter Bélico.\nPrecio: VIP – $1\,300 | General – $200 pesos. \nCuando: 23 de mayo\, 2026.\nArtista: Sorpresa. \nCuando: 24 de mayo\, 2026.\nArtista: Sorpresa. \nCuando: 28 de mayo\, 2026.\nArtista: Tito Torbellino Jr.\nPrecio: VIP – $1\,000 | General – $100 pesos. \nCuando: 29 de mayo\, 2026.\nArtista: Luis R Conriquez.\nPrecio: VIP – $1\,500 | General – $300 pesos. \nCuando: 30 de mayo\, 2026.\nArtista: Sorpresa. \nCuando: 31 de mayo\, 2026.\nArtista: Sorpresa. \nCuando: 04 de junio\, 2026.\nArtista: Grupo Selectivo.\nPrecio: VIP – $1\,000 | General – $100 pesos. \nCuando: 05 de junio\, 2026.\nArtista: Sorpresa. \nCuando: 06 de junio\, 2026.\nArtista: Sorpresa. \nCuando: 07 de junio\, 2026.\nArtista: Espinoza Paz.\nPrecio: General – $200 pesos.
URL:https://hotelesdemexicali.com/evento/verano-fest-cachanilla-mexicali-2026/
LOCATION:FEX\, Río Nuevo 955\, Mexicali\, B.C.\, 21150\, Mexico
CATEGORIES:Concierto,Fest
ATTACH;FMTTYPE=image/webp:https://hotelesdemexicali.com/wp-content/uploads/2026/04/2026-0506-2107-verano-fest-cachanilla-en-mexicali.webp
END:VEVENT
BEGIN:VEVENT
DTSTART;TZID=America/Tijuana:20260530T200000
DTEND;TZID=America/Tijuana:20260530T200000
DTSTAMP:20260419T141632
CREATED:20260411T023300Z
LAST-MODIFIED:20260411T023300Z
UID:1506-1780171200-1780171200@hotelesdemexicali.com
SUMMARY:Bear Weekend\, Mexicali 2026
DESCRIPTION:¡Atención\, Mexicali! Prepárense para vivir una noche inolvidable en el Bear Weekend 2026\, que aterrizará con toda su energía este próximo sábado 30 de mayo. La cita es en el emblemático Rancho Arroyo Hondo a partir de las 8:00 P.M.\, donde nos espera una espectacular Pool & Foam Party. Bajo el lema “Explosive Night”\, este evento promete ser el punto de reunión más vibrante de la temporada\, combinando la mejor música\, un ambiente refrescante y la calidez que caracteriza a nuestra comunidad en Baja California. \nNo dejen pasar la oportunidad de ser parte de esta celebración única organizada por Baja Bears y Barmex. Será una velada llena de diversión\, espuma y convivencia perfecta para conectar con amigos y conocer gente nueva en un entorno seguro y festivo. Marquen sus calendarios y aseguren su lugar en lo que será\, sin duda\, el fin de semana más esperado del año en la capital. ¡Los esperamos para hacer de esta noche explosiva un recuerdo legendario! \nFecha: 30 de mayo\, 2026.\nDonde: Rancho Arroyo Hondo.\nCosto: $350 pesos.\n**Aplican cargos por servicio.\nHora: 08:00 P.M. \nMás información:\nFacebook: /ArroyoHondoMexicali\nTel.: (686) 905-2124.
URL:https://hotelesdemexicali.com/evento/bear-weekend-mexicali-2026/
LOCATION:Rancho Arroyo Hondo\, Calle\, Granjas Arcoiris 138\, Mexicali\, B.C.\, 21600\, Mexico
CATEGORIES:Concierto
ATTACH;FMTTYPE=image/webp:https://hotelesdemexicali.com/wp-content/uploads/2026/04/2026-05-30-bear-en-mexicali.webp
END:VEVENT
BEGIN:VEVENT
DTSTART;TZID=America/Tijuana:20260530T200000
DTEND;TZID=America/Tijuana:20260530T200000
DTSTAMP:20260419T141632
CREATED:20260411T024316Z
LAST-MODIFIED:20260411T024316Z
UID:1510-1780171200-1780171200@hotelesdemexicali.com
SUMMARY:Edgar Fimbres\, Mexicali 2026
DESCRIPTION:¡Atención\, Mexicali! Prepárense para una noche memorable llena de talento y sentimiento con la presentación de Edgar Fimbres este próximo 30 de mayo. La cita es en el emblemático Mercado Cine Curto\, un escenario perfecto para disfrutar de una velada íntima y vibrante. No pierdan la oportunidad de ser parte de este gran evento que promete reunir a lo mejor de la música en la ciudad\, contando además con la presencia de invitados especiales que harán de esta una experiencia única. \nYa sea que busquen una noche de buena música con amigos o una salida especial\, el concierto de Edgar Fimbres es el plan ideal para cerrar el mes con broche de oro en el corazón de Mexicali. Es recomendable adquirir las entradas con tiempo para asegurar un lugar en esta noche especial que nadie querrá perderse. \nFecha: 30 de mayo\, 2026.\nDonde: Cine Curto.\nCosto:\nOro – $800 pesos.\nPlata – $500 pesos.\n**Aplican cargos por servicio.\nHora: 08:00 P.M. \nMás información:\nBoletos disponibles en: Primera Fila\nFacebook: /mercadocinecurto\nCorreo: hola@cinecurto.mx\nTel.: (686) 524-3634.
URL:https://hotelesdemexicali.com/evento/edgar-fimbres-mexicali-2026/
LOCATION:Cine Curto\, Av Reforma 550\, Primera\, Mexicali\, B.C.\, 21000\, Mexico
CATEGORIES:Concierto
ATTACH;FMTTYPE=image/webp:https://hotelesdemexicali.com/wp-content/uploads/2026/04/2026-05-30-edgar-fimbres-en-mexicali.webp
END:VEVENT
BEGIN:VEVENT
DTSTART;TZID=America/Tijuana:20260530T210000
DTEND;TZID=America/Tijuana:20260530T210000
DTSTAMP:20260419T141632
CREATED:20260411T031337Z
LAST-MODIFIED:20260411T031337Z
UID:1516-1780174800-1780174800@hotelesdemexicali.com
SUMMARY:Raúl Di Blasio\, Mexicali 2026
DESCRIPTION:¡Atención\, Mexicali! Una velada de elegancia y virtuosismo espera con la llegada de Raúl Di Blasio\, “El Piano de América”\, a la ciudad. Este próximo sábado 30 de mayo\, el majestuoso Teatro del Estado abrirá sus puertas a las 9:00 P.M. para recibir a uno de los pianistas más queridos y talentosos del mundo. Es una oportunidad única para dejarse envolver por las melodías que han cautivado a continentes enteros\, en un ambiente íntimo y sofisticado que promete tocar las fibras más sensibles de todos los asistentes. \nNo es recomendable quedarse fuera de este evento de talla internacional. Ya sea para disfrutar de un momento romántico o simplemente para admirar la maestría técnica de Di Blasio\, esta noche será\, sin duda\, un punto culminante de la agenda cultural en la capital. Es momento de obtener los boletos y prepararse para ser testigos de una interpretación magistral que quedará grabada en los corazones de los espectadores. \nFecha: 30 de mayo\, 2026.\nDonde: Teatro del Estado.\nCosto:\n3er. Nivel – $950 pesos.\n2do. Nivel – $1\,230 pesos.\n1er. Nivel – $1\,520 pesos.\nVIP – $1\,630 pesos.\n**Aplican cargos por servicio.\nFunciones: 09:00 P.M. \nMás información:\nBoletos disponibles en: Primera Fila\nfacebook: /teatrodelestadoMXL\nOficinas generales: (686) 554-9339.\nAtención en taquilla: (686) 554-6419.\nCorreo: teatrodelestadobc@gmail.com
URL:https://hotelesdemexicali.com/evento/raul-di-blasio-mexicali-2026/
LOCATION:Teatro del Estado\, Blvd. Adolfo López Mateos 1112\, Conjunto Urbano Caliss\, Mexicali\, B.C.\, 21010\, Mexico
CATEGORIES:Concierto
ATTACH;FMTTYPE=image/webp:https://hotelesdemexicali.com/wp-content/uploads/2026/04/2026-05-30-raul-diblasio-en-mexicali.webp
END:VEVENT
END:VCALENDAR