BEGIN:VCALENDAR
VERSION:2.0
PRODID:-//Hoteles de Mexicali - ECPv6.15.17.1//NONSGML v1.0//EN
CALSCALE:GREGORIAN
METHOD:PUBLISH
X-WR-CALNAME:Hoteles de Mexicali
X-ORIGINAL-URL:https://hotelesdemexicali.com
X-WR-CALDESC:Eventos para Hoteles de Mexicali
REFRESH-INTERVAL;VALUE=DURATION:PT1H
X-Robots-Tag:noindex
X-PUBLISHED-TTL:PT1H
BEGIN:VTIMEZONE
TZID:America/Tijuana
BEGIN:DAYLIGHT
TZOFFSETFROM:-0800
TZOFFSETTO:-0700
TZNAME:PDT
DTSTART:20250309T100000
END:DAYLIGHT
BEGIN:STANDARD
TZOFFSETFROM:-0700
TZOFFSETTO:-0800
TZNAME:PST
DTSTART:20251102T090000
END:STANDARD
BEGIN:DAYLIGHT
TZOFFSETFROM:-0800
TZOFFSETTO:-0700
TZNAME:PDT
DTSTART:20260308T100000
END:DAYLIGHT
BEGIN:STANDARD
TZOFFSETFROM:-0700
TZOFFSETTO:-0800
TZNAME:PST
DTSTART:20261101T090000
END:STANDARD
BEGIN:DAYLIGHT
TZOFFSETFROM:-0800
TZOFFSETTO:-0700
TZNAME:PDT
DTSTART:20270314T100000
END:DAYLIGHT
BEGIN:STANDARD
TZOFFSETFROM:-0700
TZOFFSETTO:-0800
TZNAME:PST
DTSTART:20271107T090000
END:STANDARD
END:VTIMEZONE
BEGIN:VEVENT
DTSTART;TZID=America/Tijuana:20260613T190000
DTEND;TZID=America/Tijuana:20260613T190000
DTSTAMP:20260419T155123
CREATED:20260406T183316Z
LAST-MODIFIED:20260406T183443Z
UID:1478-1781377200-1781377200@hotelesdemexicali.com
SUMMARY:La Parranda: Tour 2.0 Recargada\, Mexicali 2026
DESCRIPTION:¡Prepárate para la fiesta más espectacular del año en Mexicali! El próximo sábado 13 de junio\, el Palenque del FEX se convertirá en el epicentro de la música regional con “La Parranda Tour 2026: 2.0 Recargada”. Con una alineación de lujo que incluye el gran regreso de Codiciado\, junto a Alta Consigna\, Perdidos de Sinaloa\, Jovanny Cadena y Jose Manuel\, este evento promete una noche inolvidable llena de éxitos\, energía y el mejor ambiente norteño. Es la oportunidad perfecta para reunir a tus amigos y disfrutar de un espectáculo de primer nivel en el corazón de Baja California. \nNo te quedes fuera de esta experiencia única y asegura tus boletos en las zonas Oro\, Plata o Bronce. Las entradas ya están a la venta a través de Ticketnauta y físicamente en el Hotel Araiza\, así que corre por las tuyas antes de que se agoten. Vive de cerca la fuerza de tus artistas favoritos y sé parte de lo que promete ser la parranda más grande de México. ¡Nos vemos en el Palenque para cantar a todo pulmón! \nFecha: 13 de junio\, 2026.\nDonde: Palenque del FEX.\nCosto:\nOro – $3\,200 pesos.\nPlata – $2\,200 pesos.\nBronce – $1\,200 pesos.\nGeneral – $600 pesos.\n**Aplican cargos por servicio.\nHora: 07:00 P.M. \nMás información:\nFacebook: /palenquedelfex\nTel.: (686) 557-0824.
URL:https://hotelesdemexicali.com/evento/la-parranda-tour-2-0-recargada-mexicali-2026/
LOCATION:Palenque del Fex\, Río Nuevo 955\, Agualeguas\, Mexicali\, B.C.\, 21150\, Mexico
CATEGORIES:Concierto
ATTACH;FMTTYPE=image/webp:https://hotelesdemexicali.com/wp-content/uploads/2026/03/2026-06-13-la-parranda-en-mexicali.webp
END:VEVENT
BEGIN:VEVENT
DTSTART;TZID=America/Tijuana:20260613T220000
DTEND;TZID=America/Tijuana:20260613T220000
DTSTAMP:20260419T155123
CREATED:20260320T030859Z
LAST-MODIFIED:20260320T030859Z
UID:1393-1781388000-1781388000@hotelesdemexicali.com
SUMMARY:Yuri: Icónica Recargado\, Mexicali 2026
DESCRIPTION:¡La “Reina del Pop Latino” está de regreso y más espectacular que nunca! Este sábado 13 de junio\, la icónica Yuri iluminará la Plaza Calafia con su gira “Icónica Recargado”\, un show diseñado para dejarte sin aliento. A partir de las 10:00 p.m.\, prepárate para sumergirte en el impresionante concepto del #Yuriverso\, donde la voz inigualable de la jarocha se combina con una producción de primer nivel\, cambios de vestuario deslumbrantes y coreografías que te harán vibrar. Es la oportunidad perfecta para vivir una noche de gala en uno de los recintos más emblemáticos de Mexicali. \nNo te pierdas este recorrido musical por las décadas de éxito que han consagrado a Yuri como una leyenda viviente. Desde las baladas que nos hicieron llorar hasta los ritmos que nos pusieron a bailar\, cada momento del espectáculo es una joya visual y sonora que celebra su trayectoria artística. Asegura tus boletos y únete a esta gran fiesta llena de energía\, talento y mucha nostalgia. ¡Ven a cantar a todo pulmón y sé parte de la noche más brillante del 2026 en la capital bajacaliforniana! \nFecha: 13 de junio\, 2026.\nDonde: Plaza de Toros Calafia.\nCosto:\nDiamante 1 – $3\,993 pesos.\nDiamante 2 – $3\,993 pesos.\nVip 1 – $2\,783 pesos.\nVip 2 – $2\,783 pesos.\nOro 1 – $1\,815 pesos.\nOro 2 – $1\,815 pesos.\nPlata 1 – $1\,331 pesos.\nPlata 2 – $1\,331 pesos.\nGeneral – $726 pesos.\n**Aplican cargos por servicio.\nHora: 10:00 P.M. \nMás información:\nBoletos disponibles en: boletomovil.com\nTel.: (686) 555-2600.
URL:https://hotelesdemexicali.com/evento/yuri-iconica-recargado-mexicali-2026/
LOCATION:Plaza de Toros Calafia\, C. Calafia 1096\, Centro Cívico\, Mexicali\, B.C.\, 21000\, Mexico
CATEGORIES:Concierto
ATTACH;FMTTYPE=image/webp:https://hotelesdemexicali.com/wp-content/uploads/2026/03/2026-06-13-yuri-en-mexicali.webp
END:VEVENT
END:VCALENDAR