BEGIN:VCALENDAR
VERSION:2.0
PRODID:-//Hoteles de Mexicali - ECPv6.15.17.1//NONSGML v1.0//EN
CALSCALE:GREGORIAN
METHOD:PUBLISH
X-ORIGINAL-URL:https://hotelesdemexicali.com
X-WR-CALDESC:Eventos para Hoteles de Mexicali
REFRESH-INTERVAL;VALUE=DURATION:PT1H
X-Robots-Tag:noindex
X-PUBLISHED-TTL:PT1H
BEGIN:VTIMEZONE
TZID:America/Tijuana
BEGIN:DAYLIGHT
TZOFFSETFROM:-0800
TZOFFSETTO:-0700
TZNAME:PDT
DTSTART:20250309T100000
END:DAYLIGHT
BEGIN:STANDARD
TZOFFSETFROM:-0700
TZOFFSETTO:-0800
TZNAME:PST
DTSTART:20251102T090000
END:STANDARD
BEGIN:DAYLIGHT
TZOFFSETFROM:-0800
TZOFFSETTO:-0700
TZNAME:PDT
DTSTART:20260308T100000
END:DAYLIGHT
BEGIN:STANDARD
TZOFFSETFROM:-0700
TZOFFSETTO:-0800
TZNAME:PST
DTSTART:20261101T090000
END:STANDARD
BEGIN:DAYLIGHT
TZOFFSETFROM:-0800
TZOFFSETTO:-0700
TZNAME:PDT
DTSTART:20270314T100000
END:DAYLIGHT
BEGIN:STANDARD
TZOFFSETFROM:-0700
TZOFFSETTO:-0800
TZNAME:PST
DTSTART:20271107T090000
END:STANDARD
END:VTIMEZONE
BEGIN:VEVENT
DTSTART;TZID=America/Tijuana:20260425T100000
DTEND;TZID=America/Tijuana:20260425T170000
DTSTAMP:20260419T124231
CREATED:20260411T053259Z
LAST-MODIFIED:20260411T053259Z
UID:1554-1777111200-1777136400@hotelesdemexicali.com
SUMMARY:Día Internacional de la Danza\, Mexicali 2026
DESCRIPTION:Prepárate para vivir una jornada épica dedicada al movimiento en la celebración del Día Internacional de la Danza este próximo sábado 25 de abril. La Casa de la Cultura abrirá sus puertas para ofrecerte entre 8 y 10 horas de pura energía\, donde podrás disfrutar de presentaciones\, clases y conferencias de géneros tan diversos como el ballet\, flamenco\, folclor\, jazz y danza urbana. Bajo el lema “Ritmo\, tradición y pasión que nos une”\, este evento promete ser el punto de encuentro definitivo para artistas y entusiastas de todas las edades. \nFecha: 25 de abril\, 2026.\nDonde: Casa de la Cultura Mexicali.\nCosto: $200 pesos.\n**Aplican cargos por servicio.\nFunciones: 10:00 A.M. \nMás información:\nBoletos disponibles en: ticketnauta.com\nFacebook: /CasaDeLaCulturaDeMexicali
URL:https://hotelesdemexicali.com/evento/dia-internacional-de-la-danza-mexicali-2026/
LOCATION:Casa de la Cultura\, Avenida Francisco I. Madero y Altamirano s/n\, Mexicali\, B.C.\, 21100\, Mexico
CATEGORIES:Danza
ATTACH;FMTTYPE=image/webp:https://hotelesdemexicali.com/wp-content/uploads/2026/04/2026-04-25-danza-en-mexicali.webp
END:VEVENT
END:VCALENDAR