BEGIN:VCALENDAR
VERSION:2.0
PRODID:-//Hoteles de Mexicali - ECPv6.15.17.1//NONSGML v1.0//EN
CALSCALE:GREGORIAN
METHOD:PUBLISH
X-ORIGINAL-URL:https://hotelesdemexicali.com
X-WR-CALDESC:Eventos para Hoteles de Mexicali
REFRESH-INTERVAL;VALUE=DURATION:PT1H
X-Robots-Tag:noindex
X-PUBLISHED-TTL:PT1H
BEGIN:VTIMEZONE
TZID:America/Tijuana
BEGIN:DAYLIGHT
TZOFFSETFROM:-0800
TZOFFSETTO:-0700
TZNAME:PDT
DTSTART:20250309T100000
END:DAYLIGHT
BEGIN:STANDARD
TZOFFSETFROM:-0700
TZOFFSETTO:-0800
TZNAME:PST
DTSTART:20251102T090000
END:STANDARD
BEGIN:DAYLIGHT
TZOFFSETFROM:-0800
TZOFFSETTO:-0700
TZNAME:PDT
DTSTART:20260308T100000
END:DAYLIGHT
BEGIN:STANDARD
TZOFFSETFROM:-0700
TZOFFSETTO:-0800
TZNAME:PST
DTSTART:20261101T090000
END:STANDARD
BEGIN:DAYLIGHT
TZOFFSETFROM:-0800
TZOFFSETTO:-0700
TZNAME:PDT
DTSTART:20270314T100000
END:DAYLIGHT
BEGIN:STANDARD
TZOFFSETFROM:-0700
TZOFFSETTO:-0800
TZNAME:PST
DTSTART:20271107T090000
END:STANDARD
END:VTIMEZONE
BEGIN:VEVENT
DTSTART;TZID=America/Tijuana:20260328T083000
DTEND;TZID=America/Tijuana:20260328T203000
DTSTAMP:20260419T143043
CREATED:20260308T070047Z
LAST-MODIFIED:20260311T214110Z
UID:754-1774686600-1774729800@hotelesdemexicali.com
SUMMARY:AAA Border\, Mexicali 2026
DESCRIPTION:¡Prepárate para una noche inolvidable en el Foro Dragón! Este 22 de marzo\, Esteban Gómez González llega a Mexicali para envolvernos con esa voz y energía que lo han consolidado como un referente del indie en español. Es la oportunidad perfecta para vivir de cerca su etapa como solista y dejarte llevar por una propuesta que mezcla nostalgia\, ritmos latinos y esa esencia rockera que tanto nos gusta. \nNo te quedes fuera de este encuentro íntimo donde las letras profundas y las melodías envolventes serán las protagonistas. El ambiente en Misión Dragón promete ser el escenario ideal para conectar con la música y disfrutar de un show diseñado para los verdaderos fans. ¡Corre por tus boletos y asegura tu lugar en lo que será\, sin duda\, una de las mejores noches del año en la ciudad! \nFecha: 28 de marzo\, 2026.\nDonde: Auditorio del Estado.\nCosto: \n1ra fila – $1\,200 pesos.\n2da fila – $1\,000 pesos.\n3ra fila – $900 pesos.\n4ta fila – $750 pesos.\n5ta fila – $600 pesos.\n6ta fila – $600 pesos.\n07-10 filas – $500 pesos.\nPreferente – $500 pesos.\nGeneral – $260 pesos.\n**Aplican cargos por servicio.\nHora: 08:30 P.M. \nMás información:\nBoletos disponibles en: Primera Fila\nTel:. (686) 565-6700.
URL:https://hotelesdemexicali.com/evento/aaa-border-mexicali-2026/
LOCATION:Auditorio del Estado\, Aviación\, Mexicali\, B.C.\, 21239\, Mexico
CATEGORIES:Lucha Libre
ATTACH;FMTTYPE=image/webp:https://hotelesdemexicali.com/wp-content/uploads/2026/03/2026-03-28-lucha-libre-en-mexicali.webp
END:VEVENT
END:VCALENDAR