BEGIN:VCALENDAR
VERSION:2.0
PRODID:-//Hoteles de Mexicali - ECPv6.15.17.1//NONSGML v1.0//EN
CALSCALE:GREGORIAN
METHOD:PUBLISH
X-WR-CALNAME:Hoteles de Mexicali
X-ORIGINAL-URL:https://hotelesdemexicali.com
X-WR-CALDESC:Eventos para Hoteles de Mexicali
REFRESH-INTERVAL;VALUE=DURATION:PT1H
X-Robots-Tag:noindex
X-PUBLISHED-TTL:PT1H
BEGIN:VTIMEZONE
TZID:America/Tijuana
BEGIN:DAYLIGHT
TZOFFSETFROM:-0800
TZOFFSETTO:-0700
TZNAME:PDT
DTSTART:20250309T100000
END:DAYLIGHT
BEGIN:STANDARD
TZOFFSETFROM:-0700
TZOFFSETTO:-0800
TZNAME:PST
DTSTART:20251102T090000
END:STANDARD
BEGIN:DAYLIGHT
TZOFFSETFROM:-0800
TZOFFSETTO:-0700
TZNAME:PDT
DTSTART:20260308T100000
END:DAYLIGHT
BEGIN:STANDARD
TZOFFSETFROM:-0700
TZOFFSETTO:-0800
TZNAME:PST
DTSTART:20261101T090000
END:STANDARD
BEGIN:DAYLIGHT
TZOFFSETFROM:-0800
TZOFFSETTO:-0700
TZNAME:PDT
DTSTART:20270314T100000
END:DAYLIGHT
BEGIN:STANDARD
TZOFFSETFROM:-0700
TZOFFSETTO:-0800
TZNAME:PST
DTSTART:20271107T090000
END:STANDARD
END:VTIMEZONE
BEGIN:VEVENT
DTSTART;TZID=America/Tijuana:20260502T140000
DTEND;TZID=America/Tijuana:20260502T160000
DTSTAMP:20260419T142040
CREATED:20260311T223952Z
LAST-MODIFIED:20260311T223952Z
UID:814-1777730400-1777737600@hotelesdemexicali.com
SUMMARY:BTS & Kpop Universe\, Mexicali 2026
DESCRIPTION:¡Atención\, ARMY y amantes del K-pop en Mexicali! Prepárense para vivir una experiencia intergaláctica en el evento BTS & Kpop Universe 2026. El próximo domingo 22 de marzo\, el Teatro del Estado se transformará en el epicentro del fenómeno coreano\, ofreciendo un espectáculo vibrante lleno de coreografías impecables\, proyecciones especiales y una producción de primer nivel dedicada a los mayores éxitos de Bangtan y el universo del pop coreano. Es la oportunidad perfecta para que la comunidad cachanilla se reúna\, comparta su pasión y disfrute de una tarde cargada de color\, música y sorpresas que te harán sentir en Seúl. \nLa cita comienza a las 4:00 p.m.\, un horario ideal para asistir con amigos o en familia y sumergirse en la energía inigualable de los fandoms. Los boletos ya están disponibles a través de la plataforma de Primera Fila y en la taquilla del teatro; aseguran tu entrada con anticipación para no perderte los concursos de dance cover y la mercancía exclusiva que habrá en el lugar. ¡No faltes a esta celebración de la cultura coreana y demuestra que en Mexicali el poder del K-pop brilla más fuerte que nunca! \nFecha: 02 de mayo\, 2026.\nDonde: Teatro del Estado.\nCosto:\nVIP – $800 pesos.\n1er NIvel – $700 pesos.\n2do Nivel – $600 pesos.\n3er Nivel – $500 pesos.\n**Aplican cargos por servicio.\nFunciones: 02:00 – 04:00 P.M. \nMás información:\nBoletos disponibles en: Primera Fila\nfacebook: /teatrodelestadoMXL\nOficinas generales: (686) 554-9339.\nAtención en taquilla: (686) 554-6419.\nCorreo: teatrodelestadobc@gmail.com
URL:https://hotelesdemexicali.com/evento/bts-kpop-universe-mexicali-2026/
LOCATION:Teatro del Estado\, Blvd. Adolfo López Mateos 1112\, Conjunto Urbano Caliss\, Mexicali\, B.C.\, 21010\, Mexico
CATEGORIES:Concierto,Show
ATTACH;FMTTYPE=image/webp:https://hotelesdemexicali.com/wp-content/uploads/2026/03/2026-05-02-kpop-universe-en-mexicali.webp
END:VEVENT
BEGIN:VEVENT
DTSTART;TZID=America/Tijuana:20260523T200000
DTEND;TZID=America/Tijuana:20260523T200000
DTSTAMP:20260419T142040
CREATED:20260411T034143Z
LAST-MODIFIED:20260411T034143Z
UID:1523-1779566400-1779566400@hotelesdemexicali.com
SUMMARY:Domingo Aceves: Show “Todo lo Nuevo”\, Mexicali 2026
DESCRIPTION:Prepárense para una noche llena de frescura y buena vibra con la llegada de Domingo Aceves a nuestra ciudad. Este próximo 23 de mayo\, el escenario de Malgro se encenderá con su gira “Todo lo Nuevo”\, prometiendo un espectáculo íntimo y vibrante que ningún verdadero fanático de la escena emergente se puede perder. \nNo dejen pasar la oportunidad de vivir esta experiencia musical única en Av. de los Ángeles 1030. Los boletos ya están disponibles a través de Arema\, así que aseguren su lugar con tiempo para disfrutar de una velada inolvidable rodeados de excelente música y el mejor ambiente de la capital. ¡Corran por sus entradas y prepárense para descubrir en vivo todo lo que Domingo Aceves tiene preparado para nosotros!. \nFecha: 23 de mayo\, 2026.\nDonde: Malgro Cervecería & TapRoom.\nCosto: $300 pesos.\n**Aplican cargos por servicio.\nHora: 08:00 P.M. \nMás información:\nBoletos disponibles en: Primera Fila\nFacebook: /CervezaMalGro\nCorreo: cervezamalgro@gmail.com
URL:https://hotelesdemexicali.com/evento/domingo-aceves-show-todo-lo-nuevo-mexicali-2026/
LOCATION:Malgro Cervecería & TapRoom\, Av de los Jazmines 1109\, Las Hadas\, Mexicali\, B.C.\, 21210\, Mexico
CATEGORIES:Comedia,Show
ATTACH;FMTTYPE=image/webp:https://hotelesdemexicali.com/wp-content/uploads/2026/04/2026-05-23-domingo-aceves-en-mexicali.webp
END:VEVENT
END:VCALENDAR