BEGIN:VCALENDAR
VERSION:2.0
PRODID:-//Hoteles de Mexicali - ECPv6.15.17.1//NONSGML v1.0//EN
CALSCALE:GREGORIAN
METHOD:PUBLISH
X-WR-CALNAME:Hoteles de Mexicali
X-ORIGINAL-URL:https://hotelesdemexicali.com
X-WR-CALDESC:Eventos para Hoteles de Mexicali
REFRESH-INTERVAL;VALUE=DURATION:PT1H
X-Robots-Tag:noindex
X-PUBLISHED-TTL:PT1H
BEGIN:VTIMEZONE
TZID:America/Tijuana
BEGIN:DAYLIGHT
TZOFFSETFROM:-0800
TZOFFSETTO:-0700
TZNAME:PDT
DTSTART:20250309T100000
END:DAYLIGHT
BEGIN:STANDARD
TZOFFSETFROM:-0700
TZOFFSETTO:-0800
TZNAME:PST
DTSTART:20251102T090000
END:STANDARD
BEGIN:DAYLIGHT
TZOFFSETFROM:-0800
TZOFFSETTO:-0700
TZNAME:PDT
DTSTART:20260308T100000
END:DAYLIGHT
BEGIN:STANDARD
TZOFFSETFROM:-0700
TZOFFSETTO:-0800
TZNAME:PST
DTSTART:20261101T090000
END:STANDARD
BEGIN:DAYLIGHT
TZOFFSETFROM:-0800
TZOFFSETTO:-0700
TZNAME:PDT
DTSTART:20270314T100000
END:DAYLIGHT
BEGIN:STANDARD
TZOFFSETFROM:-0700
TZOFFSETTO:-0800
TZNAME:PST
DTSTART:20271107T090000
END:STANDARD
END:VTIMEZONE
BEGIN:VEVENT
DTSTART;TZID=America/Tijuana:20260503T160000
DTEND;TZID=America/Tijuana:20260503T160000
DTSTAMP:20260419T142136
CREATED:20260406T193522Z
LAST-MODIFIED:20260406T193522Z
UID:1486-1777824000-1777824000@hotelesdemexicali.com
SUMMARY:Super Mario Galaxy: Función Familiar\, Mexicali 2026
DESCRIPTION:Prepárate para disfrutar Super Mario Galaxy en una experiencia teatral familiar llena de música\, efectos y personajes icónicos. La puesta en escena “Super Mario Galaxy: Experiencia Teatral” llega a Mexicali como un espectáculo dirigido a toda la familia\, combinando actuación\, efectos especiales y momentos interactivos. La historia sigue a Mario\, Luigi y la Princesa en una aventura galáctica para enfrentar a Bowser y salvar el universo. \nEl show destaca por su propuesta visual con vestuarios coloridos\, ambientación inspirada en el universo del videojuego y una narrativa dinámica que busca conectar tanto con niños como con adultos. \nEn esta adaptación teatral\, los personajes clásicos se embarcan en una misión fuera de este mundo. A lo largo del recorrido\, el público será parte de una aventura llena de retos\, humor y acción\, donde la cooperación y el valor son clave para vencer al villano. \nFecha: 03 de mayo\, 2026.\nDonde: Salón Burócratas.\nCosto:\nGeneral – $300 pesos.\nPreferente – $400 pesos.\nVIP – $500 pesos.\n**Aplican cargos por servicio.\nFunciones: 04:00 P.M. \nMás información:\nTel: +52 (686) 557-5713.\nCorreo: contacto@sbmxl.org
URL:https://hotelesdemexicali.com/evento/super-mario-galaxy-funcion-familiar-mexicali-2026/
LOCATION:Salón Burócratas\, De La Patria 476\, Centro Cívico\, Mexicali\, B.C.\, 21000\, Mexico
CATEGORIES:Teatro
ATTACH;FMTTYPE=image/webp:https://hotelesdemexicali.com/wp-content/uploads/2026/04/2026-05-03-mario-galaxy-en-mexicali.webp
END:VEVENT
BEGIN:VEVENT
DTSTART;TZID=America/Tijuana:20260503T170000
DTEND;TZID=America/Tijuana:20260503T170000
DTSTAMP:20260419T142136
CREATED:20260311T230630Z
LAST-MODIFIED:20260311T230630Z
UID:821-1777827600-1777827600@hotelesdemexicali.com
SUMMARY:El Lago De los Cisnes\, Mexicali 2026
DESCRIPTION:¡La magia y el romance del ballet más famoso del mundo llegan a Mexicali! El próximo domingo 3 de mayo de 2026\, el Teatro del Estado se vestirá de gala para presentar El Lago de los Cisnes\, una obra maestra que combina la música inmortal de Tchaikovsky con una coreografía de una elegancia inigualable. Es una invitación abierta para que todas las familias de la ciudad se sumerjan en la historia del príncipe Sigfrido y la reina Odette\, en una producción que promete deslumbrar con su técnica impecable\, vestuarios detallados y una escenografía que te transportará a un mundo de fantasía. \nFecha: 02 de mayo\, 2026.\nDonde: Teatro del Estado.\nCosto:\nVIP – $1\,000 pesos.\nLateral – $950 pesos.\n1er NIvel – $900 pesos.\n2do Nivel – $850 pesos.\n3er Nivel – $800 pesos.\n**Aplican cargos por servicio.\nFunciones: 05:00 P.M. \nMás información:\nBoletos disponibles en: Primera Fila\nfacebook: /teatrodelestadoMXL\nOficinas generales: (686) 554-9339.\nAtención en taquilla: (686) 554-6419.\nCorreo: teatrodelestadobc@gmail.com
URL:https://hotelesdemexicali.com/evento/el-lago-de-los-cisnes-mexicali-2026/
LOCATION:Teatro del Estado\, Blvd. Adolfo López Mateos 1112\, Conjunto Urbano Caliss\, Mexicali\, B.C.\, 21010\, Mexico
CATEGORIES:Teatro
ATTACH;FMTTYPE=image/webp:https://hotelesdemexicali.com/wp-content/uploads/2026/03/2026-05-03-lago-de-los-cisnes-en-mexicali.webp
END:VEVENT
BEGIN:VEVENT
DTSTART;TZID=America/Tijuana:20260505T200000
DTEND;TZID=America/Tijuana:20260505T200000
DTSTAMP:20260419T142136
CREATED:20260319T222602Z
LAST-MODIFIED:20260319T222602Z
UID:1377-1778011200-1778011200@hotelesdemexicali.com
SUMMARY:Diario de un Loco\, Mexicali 2026
DESCRIPTION:¡Prepárate para una noche de teatro de primer nivel en Mexicali! El extraordinario Mario Iván Martínez llega a nuestra ciudad para presentar “Diario de un Loco”\, una obra maestra basada en el texto de Nikolái Gógol que te mantendrá al filo del asiento. Bajo la impecable dirección de Luly Rede\, esta puesta en escena no es solo una obra\, es un viaje profundo y fascinante a los rincones más oscuros de la mente humana. No dejes pasar la oportunidad de presenciar una de las actuaciones más aclamadas del teatro contemporáneo en un montaje que cuestiona la realidad y la cordura con una intensidad única. \nSumérgete en el delirante mundo de un funcionario público que\, entre el drama y el humor negro\, nos revela sus más íntimas frustraciones y sueños de grandeza. La interpretación magistral de Mario Iván Martínez logra una conexión total con el público\, convirtiendo cada diario en una experiencia viva y conmovedora que te hará reflexionar sobre la sociedad y la naturaleza humana. Asegura tus boletos cuanto antes y acompaña a este icónico actor en una velada inolvidable de arte y reflexión. ¡El teatro te espera para vivir esta transformación! \nFecha: 05 de mayo\, 2026.\nDonde: Teatro del IMSS.\nCosto:\nPlata – $900 pesos.\nOro – $1\,200 pesos.\n**Aplican cargos por servicio.\nHora: 08:00 P.M. \nMás información:\nInstagram: /teatro_mexicali_imss\nTel.: (686) 573-8885.
URL:https://hotelesdemexicali.com/evento/diario-de-un-loco-mexicali-2026/
LOCATION:Teatro del Imss Mexicali\, Av. Sebastián Lerdo de Tejada\, Nueva\, Mexicali\, B.C.\, 21100\, Mexico
CATEGORIES:Teatro
ATTACH;FMTTYPE=image/png:https://hotelesdemexicali.com/wp-content/uploads/2026/03/2026-05-05-diario-de-un-loco-en-mexicali.png
END:VEVENT
BEGIN:VEVENT
DTSTART;TZID=America/Tijuana:20260516T140000
DTEND;TZID=America/Tijuana:20260516T140000
DTSTAMP:20260419T142136
CREATED:20260406T191411Z
LAST-MODIFIED:20260406T191411Z
UID:1483-1778940000-1778940000@hotelesdemexicali.com
SUMMARY:Mario Galaxy: El Espectáculo en Vivo\, Mexicali 2026
DESCRIPTION:¡Prepárate para una aventura intergaláctica con Mario Galaxy: El Espectáculo en Vivo! El próximo sábado 16 de mayo a las 2:00 PM\, el Teatro del Estado se transformará en un universo lleno de magia\, color y acción para recibir a tus personajes favoritos. Acompaña a Mario\, Luigi\, Peach\, Yoshi y hasta al mismísimo Bowser en una puesta en escena única que promete cautivar a chicos y grandes con una producción de primer nivel y toda la energía del mundo de los videojuegos. \nNo dejes pasar esta oportunidad exclusiva\, ya que será un único día de función en la ciudad. Es el plan perfecto para disfrutar en familia y vivir de cerca la emoción de una de las sagas más queridas de Nintendo en un formato totalmente en vivo y vibrante. Asegura tus lugares con anticipación para no quedarte fuera de este viaje espacial que hará volar la imaginación de todos los asistentes. ¡Nos vemos en el teatro para salvar la galaxia! \nFecha: 16 de mayo\, 2026.\nDonde: Teatro del Estado.\nCosto:\nVIP – $600 pesos.\n1er NIvel – $500 pesos.\n2do Nivel – $400 pesos.\n3er Nivel – $350 pesos.\n**Aplican cargos por servicio.\nFunciones: 02:00 P.M. \nMás información:\nfacebook: /teatrodelestadoMXL\nOficinas generales: (686) 554-9339.\nAtención en taquilla: (686) 554-6419.\nCorreo: teatrodelestadobc@gmail.com
URL:https://hotelesdemexicali.com/evento/mario-galaxy-el-espectaculo-en-vivo-mexicali-2026/
LOCATION:Teatro del Estado\, Blvd. Adolfo López Mateos 1112\, Conjunto Urbano Caliss\, Mexicali\, B.C.\, 21010\, Mexico
CATEGORIES:Concierto,Teatro
ATTACH;FMTTYPE=image/webp:https://hotelesdemexicali.com/wp-content/uploads/2026/04/2026-05-16-mario-galaxy-en-mexicali.webp
END:VEVENT
END:VCALENDAR