BEGIN:VCALENDAR
VERSION:2.0
PRODID:-//Hoteles de Mexicali - ECPv6.15.17.1//NONSGML v1.0//EN
CALSCALE:GREGORIAN
METHOD:PUBLISH
X-WR-CALNAME:Hoteles de Mexicali
X-ORIGINAL-URL:https://hotelesdemexicali.com
X-WR-CALDESC:Eventos para Hoteles de Mexicali
REFRESH-INTERVAL;VALUE=DURATION:PT1H
X-Robots-Tag:noindex
X-PUBLISHED-TTL:PT1H
BEGIN:VTIMEZONE
TZID:America/Tijuana
BEGIN:DAYLIGHT
TZOFFSETFROM:-0800
TZOFFSETTO:-0700
TZNAME:PDT
DTSTART:20250309T100000
END:DAYLIGHT
BEGIN:STANDARD
TZOFFSETFROM:-0700
TZOFFSETTO:-0800
TZNAME:PST
DTSTART:20251102T090000
END:STANDARD
BEGIN:DAYLIGHT
TZOFFSETFROM:-0800
TZOFFSETTO:-0700
TZNAME:PDT
DTSTART:20260308T100000
END:DAYLIGHT
BEGIN:STANDARD
TZOFFSETFROM:-0700
TZOFFSETTO:-0800
TZNAME:PST
DTSTART:20261101T090000
END:STANDARD
BEGIN:DAYLIGHT
TZOFFSETFROM:-0800
TZOFFSETTO:-0700
TZNAME:PDT
DTSTART:20270314T100000
END:DAYLIGHT
BEGIN:STANDARD
TZOFFSETFROM:-0700
TZOFFSETTO:-0800
TZNAME:PST
DTSTART:20271107T090000
END:STANDARD
END:VTIMEZONE
BEGIN:VEVENT
DTSTART;TZID=America/Tijuana:20260415T183000
DTEND;TZID=America/Tijuana:20260415T203000
DTSTAMP:20260419T142649
CREATED:20260327T220238Z
LAST-MODIFIED:20260327T220238Z
UID:1455-1776277800-1776285000@hotelesdemexicali.com
SUMMARY:No te vayas sin decir adiós\, Mexicali 2026
DESCRIPTION:¡No dejes pasar la oportunidad de presenciar una de las actuaciones más conmovedoras del año! El primer actor Juan Ferrara encabeza el elenco de “No te vayas sin decir adiós”\, una obra maestra escrita por Oscar S. Ortíz de Pinedo que llega a Mexicali para tocar las fibras más sensibles de la familia. Es una puesta en escena imperdible que invita a la reflexión y celebra el talento de grandes figuras de la actuación en un drama que te mantendrá cautivado de principio a fin. \nAsegura tus lugares para este evento de gala en el Teatro del Estado\, donde la elegancia y la emoción se encuentran en una producción de primer nivel. Con dos funciones programadas\, tienes la opción perfecta para disfrutar de una tarde o noche de cultura y gran teatro en compañía de tus seres queridos. ¡Ven y vive la magia de las artes escénicas con una historia que se quedará grabada en tu corazón! \nFecha: 15 de abril\, 2026.\nDonde: Teatro del Estado.\nCosto:\nVIP – $1\,500 pesos.\nVIP – $1\,300 pesos.\nLateral – $1\,000 pesos.\n1er. Nivel – $1\,200 pesos.\n2do. Nivel – $1\,000 pesos.\n3er. Nivel – $750 pesos.\n**Aplican cargos por servicio.\nFunciones: 06:30 y 08:30 P.M. \nMás información:\nfacebook: /teatrodelestadoMXL\nOficinas generales: (686) 554-9339.\nAtención en taquilla: (686) 554-6419.\nCorreo: teatrodelestadobc@gmail.com
URL:https://hotelesdemexicali.com/evento/no-te-vayas-sin-decir-adios-mexicali-2026/
LOCATION:Teatro del Estado\, Blvd. Adolfo López Mateos 1112\, Conjunto Urbano Caliss\, Mexicali\, B.C.\, 21010\, Mexico
CATEGORIES:Teatro
ATTACH;FMTTYPE=image/webp:https://hotelesdemexicali.com/wp-content/uploads/2026/03/2026-04-15-no-te-vayas-en-mexicali.webp
END:VEVENT
END:VCALENDAR