BEGIN:VCALENDAR
VERSION:2.0
PRODID:-//Hoteles de Mexicali - ECPv6.15.17.1//NONSGML v1.0//EN
CALSCALE:GREGORIAN
METHOD:PUBLISH
X-WR-CALNAME:Hoteles de Mexicali
X-ORIGINAL-URL:https://hotelesdemexicali.com
X-WR-CALDESC:Eventos para Hoteles de Mexicali
REFRESH-INTERVAL;VALUE=DURATION:PT1H
X-Robots-Tag:noindex
X-PUBLISHED-TTL:PT1H
BEGIN:VTIMEZONE
TZID:America/Tijuana
BEGIN:DAYLIGHT
TZOFFSETFROM:-0800
TZOFFSETTO:-0700
TZNAME:PDT
DTSTART:20250309T100000
END:DAYLIGHT
BEGIN:STANDARD
TZOFFSETFROM:-0700
TZOFFSETTO:-0800
TZNAME:PST
DTSTART:20251102T090000
END:STANDARD
BEGIN:DAYLIGHT
TZOFFSETFROM:-0800
TZOFFSETTO:-0700
TZNAME:PDT
DTSTART:20260308T100000
END:DAYLIGHT
BEGIN:STANDARD
TZOFFSETFROM:-0700
TZOFFSETTO:-0800
TZNAME:PST
DTSTART:20261101T090000
END:STANDARD
BEGIN:DAYLIGHT
TZOFFSETFROM:-0800
TZOFFSETTO:-0700
TZNAME:PDT
DTSTART:20270314T100000
END:DAYLIGHT
BEGIN:STANDARD
TZOFFSETFROM:-0700
TZOFFSETTO:-0800
TZNAME:PST
DTSTART:20271107T090000
END:STANDARD
END:VTIMEZONE
BEGIN:VEVENT
DTSTART;TZID=America/Tijuana:20261127T210000
DTEND;TZID=America/Tijuana:20261127T210000
DTSTAMP:20260419T201922
CREATED:20260411T040423Z
LAST-MODIFIED:20260411T040423Z
UID:1527-1795813200-1795813200@hotelesdemexicali.com
SUMMARY:Mägo de Oz: Gira La Noche de las Brujas\, Mexicali 2026
DESCRIPTION:Prepárense para una noche mística y llena de energía con la llegada de Mägo de Oz a nuestra ciudad el próximo 27 de noviembre. La legendaria banda española aterrizará en el CEART (Centro Estatal de las Artes) con su espectacular gira “La Noche de las Brujas 2026”\, prometiendo un despliegue de folk metal que hará vibrar a todos los asistentes a partir de las 21:00 h. Será una oportunidad mágica para disfrutar en vivo de su estilo único y de una puesta en escena que captura la esencia más pura de su trayectoria. \nYa sea que seas un fiel seguidor de toda la vida o desees vivir por primera vez la potencia de sus himnos en directo\, este concierto en el CEART será una experiencia épica para cerrar el año con broche de oro. ¡Corran por sus boletos y prepárense para una velada legendaria donde la música y la fantasía se unirán en el corazón de la capital! \nFecha: 27 de noviembre\, 2026.\nDonde: CEART Mexicali.\nCosto: \nGeneral – $920 pesos.\nPreferente – $1\,380 pesos.\n**Aplican cargos por servicio.\nHora: 09:00 PM. \nMás información:\nFacebook: /ceartmexicalibc\nCorreo: ceartbc@gmail.com\nTel: (686) 553-6952.
URL:https://hotelesdemexicali.com/evento/mago-de-oz-gira-la-noche-de-las-brujas-mexicali-2026/
LOCATION:CEART Mexicali\, Río Nuevo\, Mexicali\, B.C.\, 21120\, Mexico
CATEGORIES:Concierto
ATTACH;FMTTYPE=image/webp:https://hotelesdemexicali.com/wp-content/uploads/2026/04/2026-11-27-mago-oz-en-mexicali.webp
END:VEVENT
END:VCALENDAR