BEGIN:VCALENDAR
VERSION:2.0
PRODID:-//Hoteles de Mexicali - ECPv6.15.17.1//NONSGML v1.0//EN
CALSCALE:GREGORIAN
METHOD:PUBLISH
X-WR-CALNAME:Hoteles de Mexicali
X-ORIGINAL-URL:https://hotelesdemexicali.com
X-WR-CALDESC:Eventos para Hoteles de Mexicali
REFRESH-INTERVAL;VALUE=DURATION:PT1H
X-Robots-Tag:noindex
X-PUBLISHED-TTL:PT1H
BEGIN:VTIMEZONE
TZID:America/Tijuana
BEGIN:DAYLIGHT
TZOFFSETFROM:-0800
TZOFFSETTO:-0700
TZNAME:PDT
DTSTART:20250309T100000
END:DAYLIGHT
BEGIN:STANDARD
TZOFFSETFROM:-0700
TZOFFSETTO:-0800
TZNAME:PST
DTSTART:20251102T090000
END:STANDARD
BEGIN:DAYLIGHT
TZOFFSETFROM:-0800
TZOFFSETTO:-0700
TZNAME:PDT
DTSTART:20260308T100000
END:DAYLIGHT
BEGIN:STANDARD
TZOFFSETFROM:-0700
TZOFFSETTO:-0800
TZNAME:PST
DTSTART:20261101T090000
END:STANDARD
BEGIN:DAYLIGHT
TZOFFSETFROM:-0800
TZOFFSETTO:-0700
TZNAME:PDT
DTSTART:20270314T100000
END:DAYLIGHT
BEGIN:STANDARD
TZOFFSETFROM:-0700
TZOFFSETTO:-0800
TZNAME:PST
DTSTART:20271107T090000
END:STANDARD
END:VTIMEZONE
BEGIN:VEVENT
DTSTART;TZID=America/Tijuana:20260710T190000
DTEND;TZID=America/Tijuana:20260710T190000
DTSTAMP:20260419T120536
CREATED:20260411T054202Z
LAST-MODIFIED:20260411T054202Z
UID:1557-1783710000-1783710000@hotelesdemexicali.com
SUMMARY:Tombochio\, Mexicali 2026
DESCRIPTION:Prepárense para una noche cargada de rimas y la mejor energía del género urbano con la llegada de Milo J a nuestra ciudad. El fenómeno musical que está rompiendo fronteras se presentará este próximo viernes 10 de julio en el emblemático Palenque del FEX\, prometiendo un espectáculo inolvidable lleno de los éxitos que han marcado tendencia a nivel global. Es la oportunidad perfecta para vivir en directo la potencia lírica y el estilo único de un artista que está definiendo el sonido de una nueva generación. \nNo se queden fuera de este gran evento y aseguren su lugar con tiempo. Reúnan a sus amigos y prepárense para vibrar con lo mejor de la escena actual en una velada que promete ser histórica en la capital. ¡Corran por sus entradas y no se pierdan la oportunidad de ser parte del fenómeno de Milo J en Mexicali! \nFecha: 10 de julio\, 2026.\nDonde: Palenque del FEX.\nCosto:\nOro – $2\,900 pesos.\nPlata – $1\,900 pesos.\nBronce – $900 pesos.\nGeneral – $600 pesos.\n**Aplican cargos por servicio.\nHora: 07:00 P.M. \nMás información:\nFacebook: /palenquedelfex\nTel.: (686) 557-0824.
URL:https://hotelesdemexicali.com/evento/tombochio-mexicali-2026/
LOCATION:Palenque del Fex\, Río Nuevo 955\, Agualeguas\, Mexicali\, B.C.\, 21150\, Mexico
CATEGORIES:Concierto
ATTACH;FMTTYPE=image/webp:https://hotelesdemexicali.com/wp-content/uploads/2026/04/2026-07-10-tombochio-en-mexicali.webp
END:VEVENT
BEGIN:VEVENT
DTSTART;TZID=America/Tijuana:20260713T053000
DTEND;TZID=America/Tijuana:20260713T173000
DTSTAMP:20260419T120536
CREATED:20260320T034613Z
LAST-MODIFIED:20260320T034613Z
UID:1400-1783920600-1783963800@hotelesdemexicali.com
SUMMARY:Pequeño Pez: Gira 10 Años\, Mexicali 2026
DESCRIPTION:¡El mejor plan para celebrar el Día del Niño llega a Mexicali! Este jueves 30 de abril\, el Teatro del Estado se llenará de magia\, color y sonrisas con la presentación de Pequeño Pez y su espectacular “Gira 10 Años”. A partir de las 5:30 pm\, las familias cachanillas podrán disfrutar de una experiencia única que combina música en vivo\, teatro y títeres en un show interactivo que ha cautivado a miles en todo el mundo. No dejes pasar la oportunidad de festejar a los más pequeños del hogar con esta propuesta argentina de primer nivel que celebra una década de creatividad y alegría. \nAcompaña a Ceci Peredo e Iván Fonrouge en un viaje sonoro lleno de historias fascinantes y canciones originales que invitan a grandes y chicos a jugar y participar. Este montaje conmemorativo es más que un concierto; es un encuentro donde la imaginación no tiene límites y cada dinámica está pensada para fortalecer el vínculo familiar a través del arte. Los boletos ya están disponibles en taquilla\, así que asegura tus lugares con tiempo y prepárate para vivir una tarde inolvidable junto a Pequeño Pez. ¡La fiesta infantil más grande del 2026 te espera! \nFecha: 13 de julio\, 2026.\nDonde: Teatro del Estado.\nCosto:\n3er. Nivel – $500 pesos.\n2do. Nivel – $650 pesos.\n1er. Nivel – $800 pesos.\nVIP – $950 pesos.\n**Aplican cargos por servicio.\nHora: 05:30 P.M. \nMás información:\nfacebook: /teatrodelestadoMXL\nOficinas generales: (686) 554-9339.\nAtención en taquilla: (686) 554-6419.\nCorreo: teatrodelestadobc@gmail.com
URL:https://hotelesdemexicali.com/evento/pequeno-pez-gira-10-anos-mexicali-2026/
LOCATION:Teatro del Estado\, Blvd. Adolfo López Mateos 1112\, Conjunto Urbano Caliss\, Mexicali\, B.C.\, 21010\, Mexico
CATEGORIES:Concierto
ATTACH;FMTTYPE=image/webp:https://hotelesdemexicali.com/wp-content/uploads/2026/03/2026-07-13-pequeno-pez-en-mexicali.webp
END:VEVENT
END:VCALENDAR